BEGIN:VCALENDAR
VERSION:2.0
PRODID:-//Open Circle Center - ECPv5.7.0//NONSGML v1.0//EN
CALSCALE:GREGORIAN
METHOD:PUBLISH
X-WR-CALNAME:Open Circle Center
X-ORIGINAL-URL:https://opencirclecenter.org
X-WR-CALDESC:Events for Open Circle Center
BEGIN:VTIMEZONE
TZID:America/Los_Angeles
BEGIN:DAYLIGHT
TZOFFSETFROM:-0800
TZOFFSETTO:-0700
TZNAME:PDT
DTSTART:20190310T100000
END:DAYLIGHT
BEGIN:STANDARD
TZOFFSETFROM:-0700
TZOFFSETTO:-0800
TZNAME:PST
DTSTART:20191103T090000
END:STANDARD
END:VTIMEZONE
BEGIN:VEVENT
DTSTART;TZID=America/Los_Angeles:20190528T190000
DTEND;TZID=America/Los_Angeles:20190528T230000
DTSTAMP:20260421T042024
CREATED:20190329T222638Z
LAST-MODIFIED:20190520T180812Z
UID:8755-1559070000-1559084400@opencirclecenter.org
SUMMARY:Will Pye ~ Radical Gratitude: Appreciating Presence...CANCELLED!!!
DESCRIPTION:After what might now be regarded as nondual realizations as a child\, Will Pye experienced years of suffering\, depression and a desire to not exist. A wish to end suffering mingled with a deep yearning to know Truth fueled intensive spiritual exploration. Much Zen practice\, energy healing\, shamanic exploration\, yoga\, Qi Gong\, philosophical study and scientific research led to shifts in perception\, including\, at age 28\, insight into the emptiness of self\, and unity of inner and outer. At 31\, total surrender to death following a brain cancer diagnosis yielded experience of infinite and eternal being and the perfection unfolding. \nSince then Will has left behind a successful business to share presence and explore consciousness with groups in workshops\, retreats and Meetings in Love\, Truth and Laughter around the world. \nInfluenced by Zen\, Christian Mysticism\, Sufism\, Quantum Mechanics and Neuroscience Will offers practical wisdom\, emphasizing direct experience and revelation\, whether via meditation\, gratitude\, plant spirit medicine\, dancing\, lovemaking\, or listening to a tree dancing with the sun. \nWorking with groups\, Will offers and invites innocence\, curiosity and play\, and holding several paradoxes. Teaching and learning occur\, yet there is no teacher nor teaching. Gathering in exploration of consciousness\, being\, love\, and stillness is unspeakably sacred\, yet ─ it being what we already are ─ is a bit of a joke: bowing to impersonal presence\, surrendering to the group energy field’s movement\, yet appreciating the uniqueness of each individuation of consciousness and the particular shape of their unfolding. Simultaneously water\, dewdrop and snowflake\, we are already perfect and becoming more. \nJoin us to explore a way of being Will calls Radical Gratitude. Here every breath\, pain\, thought\, identity and contraction are recognized to be God making Love with Itself as we realize the naturally joyful love of Being. \nWill can also be found handing out Love Letters to strangers as part of a hopelessly idealistic global movement of love and awakening\, an initiative of the Love and Truth Party: exploring what awakened activism might look like as we celebrate oneness. Will is also the author of the critically acclaimed book\, Blessed with a Brain Tumor: Realizing it’s all Gift and Learning to Receive\, and the forthcoming The Gratitude Prescription: How to Find Peace of Mind and Joy Wherever You Look\, (2019 New Harbinger). \nwww.loveandtruthparty.org\nwww.willpye.com \nSuggested Donation $15-$25
URL:https://opencirclecenter.org/event/will-pye-radical-gratitude-6-2-3/
LOCATION:Falkirk Cultural Center\, San Rafael\, 1408 Mission Ave\, San Rafael\, CA\, United States
ATTACH;FMTTYPE=image/jpeg:https://opencirclecenter.org/wp-content/uploads/2019/03/Will-Pye....Laughing-and-Hairless...cropped......jpg
GEO:37.9756761;-122.5319912
X-APPLE-STRUCTURED-LOCATION;VALUE=URI;X-ADDRESS=Falkirk Cultural Center San Rafael 1408 Mission Ave San Rafael CA United States;X-APPLE-RADIUS=500;X-TITLE=1408 Mission Ave:geo:-122.5319912,37.9756761
END:VEVENT
END:VCALENDAR