BEGIN:VCALENDAR
VERSION:2.0
PRODID:-//Open Circle Center - ECPv5.7.0//NONSGML v1.0//EN
CALSCALE:GREGORIAN
METHOD:PUBLISH
X-WR-CALNAME:Open Circle Center
X-ORIGINAL-URL:https://opencirclecenter.org
X-WR-CALDESC:Events for Open Circle Center
BEGIN:VTIMEZONE
TZID:America/Los_Angeles
BEGIN:DAYLIGHT
TZOFFSETFROM:-0800
TZOFFSETTO:-0700
TZNAME:PDT
DTSTART:20190310T100000
END:DAYLIGHT
BEGIN:STANDARD
TZOFFSETFROM:-0700
TZOFFSETTO:-0800
TZNAME:PST
DTSTART:20191103T090000
END:STANDARD
END:VTIMEZONE
BEGIN:VEVENT
DTSTART;TZID=America/Los_Angeles:20190310T103000
DTEND;TZID=America/Los_Angeles:20190310T170000
DTSTAMP:20260421T090826
CREATED:20190130T221429Z
LAST-MODIFIED:20190302T010827Z
UID:8339-1552213800-1552237200@opencirclecenter.org
SUMMARY:Tim Freke ~ Individuals Evolving Into Unividuals
DESCRIPTION:An astonishing leap forward in the story of humanity is quietly gaining momentum. It is historically unprecedented that so many of us now feel compassion for people we will never meet who are suffering in distant lands. More and more of us care deeply about other species and the natural world. A smaller but ever increasing number are awakening to a profound sense of oneness with everyone and everything. \nPioneering English philosopher Tim Freke suggests these developments are signs of our evolution from separate individuals into connected ‘unividuals’ who experience a unity that transcends our individuality. During his ‘Evening of Philosophy’ and ‘Experiential Day Seminar’ he will explore this momentous evolutionary jump. \nYou’ll be introduced to ‘Unividualism’ which unifies science and spirituality to offer a visionary understanding of the evolving cosmos. You’ll experience ‘Unividual Connection Meditations’ to awaken a state of deep communion and all-embracing love. This is your invitation to become part of a new global tribe that can transform our individualistic self-serving society into a unividual culture of kindness. \nT!M FREKE is a leading-edge thinker who shares original ideas with clarity and humour. He is the author of 35 books\, translated into 15 languages\, including a top 10 international bestseller and UK Daily Telegraph ‘Book of the Year’. He presents events internationally\, including in the UK\, Europe\, Japan\, South America\, Canada and the USA. \nwww.timfreke.com \nEvening of Philosophy ~ March 7th\, 2019\nTime: 7:00 – 9:00 pm\nSliding Scale: $15 – $25\nNo pre-registration for the Thur. evening event. \nExperiential Day Seminar ~ March 10th\, 2019\nTime: 10:30 am – 5:00 pm\nNOTE: as of SUNDAY March 10TH\, 2 am\, clocks in the USA are turned forward 1 hour\n“Spring Ahead” – Daylight Savings Time begins. Change your clocks when you go to bed Satrurday night!\nSliding Scale: $65 – $125\nThere are places close by to go out for lunch.\nNote: Per venue policy\, only vegetarian food is allowed on premises at Chochmat HaLev \nMarch 10th Pre-registration\nREGISTER \nPlease contact LocalEvents@opencirclecenter.org with any further questions \nPARKING: There is some limited street parking in the neighborhood\, free and without time limit on weekday evenings & weekends. There is also parking a few blocks away at the east parking lot of the Ashby Bart station: www.bart.gov/stations/ashb/map\nYou may also find paid parking just a few blocks away at Alta Bates Parking Garage: Enter on Colby between Ashby and Webster St.
URL:https://opencirclecenter.org/event/tim-freke-mar-10-2019/
LOCATION:Chochmat HaLev\, 2215 Prince St.\, Berkeley\, CA\, United States
ATTACH;FMTTYPE=image/jpeg:https://opencirclecenter.org/wp-content/uploads/2019/01/Time-Freke_2019.jpg
GEO:37.8536815;-122.2634046
X-APPLE-STRUCTURED-LOCATION;VALUE=URI;X-ADDRESS=Chochmat HaLev 2215 Prince St. Berkeley CA United States;X-APPLE-RADIUS=500;X-TITLE=2215 Prince St.:geo:-122.2634046,37.8536815
END:VEVENT
END:VCALENDAR