BEGIN:VCALENDAR
VERSION:2.0
PRODID:-//Open Circle Center - ECPv5.7.0//NONSGML v1.0//EN
CALSCALE:GREGORIAN
METHOD:PUBLISH
X-WR-CALNAME:Open Circle Center
X-ORIGINAL-URL:https://opencirclecenter.org
X-WR-CALDESC:Events for Open Circle Center
BEGIN:VTIMEZONE
TZID:America/Los_Angeles
BEGIN:DAYLIGHT
TZOFFSETFROM:-0800
TZOFFSETTO:-0700
TZNAME:PDT
DTSTART:20230312T100000
END:DAYLIGHT
BEGIN:STANDARD
TZOFFSETFROM:-0700
TZOFFSETTO:-0800
TZNAME:PST
DTSTART:20231105T090000
END:STANDARD
END:VTIMEZONE
BEGIN:VEVENT
DTSTART;TZID=America/Los_Angeles:20231104T100000
DTEND;TZID=America/Los_Angeles:20231106T130000
DTSTAMP:20260421T194915
CREATED:20230806T010149Z
LAST-MODIFIED:20231028T061511Z
UID:23743-1699092000-1699275600@opencirclecenter.org
SUMMARY:Embodied Non-Duality ~ RETREAT with Shakti Caterina Maggi ~ in Berkeley\, CA
DESCRIPTION:Includes Introductory satsang:\nFriday\, Nov. 3rd\, 7-9 pm\, in San Rafael\, CA\nRETREAT in Berkeley\, CA:\nSat. Nov. 4th\, 10am to 9pm\nand Sun. Nov. 5th\, 9am to 1pm \nAn invitation to realize and rest in the Heart of our being\, pure Consciousness. \nImmersed in our true nature \, the teaching will point to a direct and practical way of making ego patterning conscious. From this perspective\, and through an embodied re-connection to them\, egoic structures and suffering can be dissolved. \nShakti Caterina Maggi is a spiritual guide who has\, since 2003 \, been sharing a message of non separation and awakening to our true Self. Her contemporary and heart – centers approach to Advaita and non dual Tantra has supported thousands of seekers who meet her in retreats and seminars all over the world.\nwww.shakticaterinamaggi.com \nFriday evening: \nIntroductory satsang\, 7-9 pm\n(Included when you register for the Retreat\, but can also be attended separately) \nSaturday:\nRetreat Check-in\, 10:00am – 10:30am\nTeaching\, 10:30am – 1:00pm\nBreak\, 1:00pm – 2:20pm\nTeaching\, 2:20pm – 4:30pm\nBreak\, 4:30pm – 7:00pm\nTeaching\, 7:00pm – 9:00pm \nSunday:\nTeaching\, 9:00am -11:00am\nBreak\, 11:00am – 11:20am\nTeaching\, 11:20am – 1:00pm \nThis is a non-residential retreat.\nThose coming from afar will need to make their own arrangements for accommodation (Airbnb\, etc.) \nMeals: You will be responsible for all your meals. There are places close by to go out to eat\, or you may bring your own food\, though there is no refrigerator access. There’s space for eating at the premises.\nNOTE: The venue is a kosher-style facility\, so no pork or shellfish\, and no meat mixed with dairy on premises. \nREGISTRATION\nSliding Scale: $250 – $400\nSome partial scholarships available. Inquire at LocalEvents@opencirclecenter.org\, after you receive the link to register from contacting embodiednonduality23@gmail.com \nPre-Registration is required\nOnline registration closes at midnight on Thur. Nov. 2nd.\nCancellation Policy \nIf you have symptoms of a viral infection\, or have had a recent Covid exposure or positive test\, please stay home out of consideration for others. \nTo receive link to REGISTRATION\, please contact embodiednonduality23@gmail.com.\nFor those who have not attended a retreat with Shakti in person in the last three years\, we kindly request a quick video call. Please send your telephone number or Skype account name and you will be contacted via Skype or WhatsApp.\n\nOTHER EVENTS WITH SHAKTI\nOpen Circle is hosting a series of events with Shakti in various locations:\n(Shakti CA Tour – All events page)\nBerkeley\, CA satsangs: Oct. 26th & 31st and Nov. 2nd\, 7th & 8th (7-9 pm)\nMount Shasta\, CA satsangs: Oct. 27th (7-9 pm) & 28th (3-5 pm)\nSebastopol\, CA satsang: Oct. 29th (2-4 pm)\nPre-Retreat satsang\, San Rafael\, CA: Nov. 3rd (7-9 pm)\n    (Included when you register for the Retreat and can be attended separately\, open to all)\nRetreat in Berkeley\, CA: Nov. 4th & 5th
URL:https://opencirclecenter.org/event/shakti-retreat-nov-2023/
LOCATION:Berkeley\, CA
CATEGORIES:East Bay
ATTACH;FMTTYPE=image/jpeg:https://opencirclecenter.org/wp-content/uploads/2022/04/9f32230c-d327-4d30-a0fe-40cb318eb70a.jpg
END:VEVENT
END:VCALENDAR