BEGIN:VCALENDAR
VERSION:2.0
PRODID:-//Open Circle Center - ECPv5.7.0//NONSGML v1.0//EN
CALSCALE:GREGORIAN
METHOD:PUBLISH
X-WR-CALNAME:Open Circle Center
X-ORIGINAL-URL:https://opencirclecenter.org
X-WR-CALDESC:Events for Open Circle Center
BEGIN:VTIMEZONE
TZID:America/Los_Angeles
BEGIN:DAYLIGHT
TZOFFSETFROM:-0800
TZOFFSETTO:-0700
TZNAME:PDT
DTSTART:20230312T100000
END:DAYLIGHT
BEGIN:STANDARD
TZOFFSETFROM:-0700
TZOFFSETTO:-0800
TZNAME:PST
DTSTART:20231105T090000
END:STANDARD
END:VTIMEZONE
BEGIN:VEVENT
DTSTART;TZID=America/Los_Angeles:20231029T140000
DTEND;TZID=America/Los_Angeles:20231029T160000
DTSTAMP:20260421T232117
CREATED:20231020T010231Z
LAST-MODIFIED:20231020T010231Z
UID:24636-1698588000-1698595200@opencirclecenter.org
SUMMARY:Shakti Caterina Maggi ~ Embodied Non-Duality
DESCRIPTION:Join us for a direct and compassionate immersion into the field of non-duality\, an invitation to the conscious embodiment of our true nature. Our daily life itself can then be actively experienced as our most important spiritual practice. \nThe sharing will be followed by a session of Q&A to integrate the message. \nShakti Caterina Maggi is a spiritual guide who has\, since 2003\, been sharing a message of non-separation and awakening to our true Self. Her contemporary and heart-centered approach to Advaita and non-dual Tantra has supported thousands of seekers who meet her in retreats and seminars all over the world. \nOpen Circle is also hosting a series of other events with Shakti in various locations;\nCheck our online calendar for complete listings:\nBerkeley\, CA satsangs: Oct. 26th & 31st and Nov. 2nd\, 7th & 8th\nMount Shasta\, CA satsangs: Oct. 27th & 28th\nPre-Retreat satsang\, San Rafael\, CA: Nov. 3rd (7-9 pm)\n    (Included when you register for the Retreat and can be attended separately\, open to all)\nRetreat in Berkeley\, CA: Nov. 4th & 5th \nwww.shakticaterinamaggi.com \nSuggested donation for this event: $10 to $30\nNo pre-registration. Pay at door when you arrive. \nSatsang: 2-4 pm\nRefreshments: until 5 \nLocation: 8476 Sonoma Ave\, Sebastopol\, CA (Note: the house sign says 8474/8476).\nPlease park on the street\, and walk down the short driveway to the house with the carport.\nPlease arrive 10-15 minutes early.\nDress warmly as doors and windows may be kept open!
URL:https://opencirclecenter.org/event/shakti-oct-29-2023-2/
LOCATION:Sebastopol\, 8476 Sonoma Ave.\, Sebastopol\, CA
CATEGORIES:Featured
ATTACH;FMTTYPE=image/jpeg:https://opencirclecenter.org/wp-content/uploads/2022/04/9f32230c-d327-4d30-a0fe-40cb318eb70a.jpg
GEO:38.4355887;-122.8590972
X-APPLE-STRUCTURED-LOCATION;VALUE=URI;X-ADDRESS=Sebastopol 8476 Sonoma Ave. Sebastopol CA;X-APPLE-RADIUS=500;X-TITLE=8476 Sonoma Ave.:geo:-122.8590972,38.4355887
END:VEVENT
END:VCALENDAR