BEGIN:VCALENDAR
VERSION:2.0
PRODID:-//Open Circle Center - ECPv5.7.0//NONSGML v1.0//EN
CALSCALE:GREGORIAN
METHOD:PUBLISH
X-WR-CALNAME:Open Circle Center
X-ORIGINAL-URL:https://opencirclecenter.org
X-WR-CALDESC:Events for Open Circle Center
BEGIN:VTIMEZONE
TZID:America/Los_Angeles
BEGIN:DAYLIGHT
TZOFFSETFROM:-0800
TZOFFSETTO:-0700
TZNAME:PDT
DTSTART:20190310T100000
END:DAYLIGHT
BEGIN:STANDARD
TZOFFSETFROM:-0700
TZOFFSETTO:-0800
TZNAME:PST
DTSTART:20191103T090000
END:STANDARD
END:VTIMEZONE
BEGIN:VEVENT
DTSTART;TZID=America/Los_Angeles:20191019T130000
DTEND;TZID=America/Los_Angeles:20191020T170000
DTSTAMP:20260422T224846
CREATED:20191018T184750Z
LAST-MODIFIED:20191018T185311Z
UID:9725-1571490000-1571590800@opencirclecenter.org
SUMMARY:Shakti Caterina Maggi ~ Embodied Consciousness
DESCRIPTION:From understanding to being\, the passage of embodying awakening requires a deep integration into our everyday life of what has been revealed in our spiritual journey. Perception is the way through which we will directly connect to our non-dual nature\, as all illusion of separation is purely conceptual. \nThis experiential intensive will lead to profound access to our true Consciousness\, and will guide participants in the transformation of the way in which we see ourselves and the world\, as well as the way in which we can deal with suffering in ourselves and others. The intensive will include meditations\, open discussion\, and special perception exercises to help us see and dissolve the patterns of holding and resistance that reinforce the sense of separation. \nShakti Caterina Maggi has been sharing a message of awakening to our true nature as One Consciousness since 2003. Her approach to Self-Realization is very contemporary and accessible\, and is profoundly in tune with Advaita and the non-dual Tantric traditions. She reveals the real possibility of seeing what we truly are\, and embodying it in our everyday lives with clarity\, wisdom\, and humor. \nShe was recently asked to contribute to the anthology <em>On the Mystery of Being: Contemporary Insights into the Convergence of Science and Spirituality</em> edited by Zaya and Maurizio Benazzo\, the founders of the Science and Non-Duality (SAND) Conference. She teaches in Europe\, Canada and the USA\, offering satsang\, seminars and retreats. \n“The true Heart is the space in which we can deeply meet ourselves and the entire world. The way to the Heart is an embodied Consciousness\, in which we are divinely human.”  \nWhere: Chochmat HaLev\, 2215 Prince St.\, Berkeley\, CA\nWhen: 11:00am – 5:00 pm\nSliding scale: $60 – $120\nNo pre-registration required.\nNo one turned away for lack of funds.\nNote: Per venue policy\, only vegetarian food is allowed on premises at Chochmat HaLev
URL:https://opencirclecenter.org/event/shakti-oct-19-20-2019-2/
LOCATION:Sebastopol & Berkeley
CATEGORIES:Featured
ATTACH;FMTTYPE=image/jpeg:https://opencirclecenter.org/wp-content/uploads/2019/06/Shakti...2019-Oct....smiling-in-red-and-white....jpg
END:VEVENT
END:VCALENDAR