BEGIN:VCALENDAR
VERSION:2.0
PRODID:-//Open Circle Center - ECPv5.7.0//NONSGML v1.0//EN
CALSCALE:GREGORIAN
METHOD:PUBLISH
X-WR-CALNAME:Open Circle Center
X-ORIGINAL-URL:https://opencirclecenter.org
X-WR-CALDESC:Events for Open Circle Center
BEGIN:VTIMEZONE
TZID:America/Los_Angeles
BEGIN:DAYLIGHT
TZOFFSETFROM:-0800
TZOFFSETTO:-0700
TZNAME:PDT
DTSTART:20230312T100000
END:DAYLIGHT
BEGIN:STANDARD
TZOFFSETFROM:-0700
TZOFFSETTO:-0800
TZNAME:PST
DTSTART:20231105T090000
END:STANDARD
END:VTIMEZONE
BEGIN:VEVENT
DTSTART;TZID=America/Los_Angeles:20231103T190000
DTEND;TZID=America/Los_Angeles:20231103T210000
DTSTAMP:20260421T214458
CREATED:20230816T154329Z
LAST-MODIFIED:20231028T015037Z
UID:23954-1699038000-1699045200@opencirclecenter.org
SUMMARY:Shakti Caterina Maggi ~ Embodied Non-Duality ~ In-Person Event in San Rafael
DESCRIPTION:Join us for a direct and compassionate immersion into the field of non-duality\, an invitation to the conscious embodiment of our true nature. Our daily life itself can then be actively experienced as our most important spiritual practice. \nThis event will be an introduction to the retreat that weekend\, but is open to all. \nShakti Caterina Maggi is a spiritual guide who has\, since 2003\, been sharing a message of non-separation and awakening to our true Self. Her contemporary and heart-centered approach to Advaita and non-dual Tantra has supported thousands of seekers who meet her in retreats and seminars all over the world. \nA direct and compassionate immersion into the field of non duality\, an invitation to the conscious embodiment of our true nature. Our daily life itself can then be actively experienced as our most important spiritual practice.  \nThe sharing will be followed by a session of Q&A to integrate the message. \nShakti Caterina Maggi is a spiritual guide who has\, since 2003\, been sharing a message of non-separation and awakening to our true Self. Her contemporary and heart-centered approach to Advaita and non-dual Tantra has supported thousands of seekers who meet her in retreats and seminars all over the world.\nwww.shakticaterinamaggi.com \nOpen Circle is hosting a series of events with Shakti in various locations:\nSee Shakti’s California Tour Page for details.\nBerkeley\, CA satsangs: Oct. 26th & 31st and Nov. 2nd\, 7th & 8th (7-9 pm)\nMount Shasta\, CA satsangs: Oct. 27th (7-9 pm) & 28th (3-5 pm)\nSebastopol\, CA satsang: Oct. 29th (2-4 pm)\nPre-Retreat satsang\, San Rafael\, CA: Nov. 3rd (7-9 pm)\n    (Included when you register for the Retreat and can be attended separately\, open to all)\nWeekend RETREAT in Berkeley\, CA: Nov. 4th & 5th \nSuggested donation for this evening: $10 to $30\nNo pre-registration. Pay at door when you arrive.\nIf you have symptoms of a viral infection\, or have had a recent\nCovid exposure or positive test\, please stay home out of consideration for others.
URL:https://opencirclecenter.org/event/shakti-nov-3-2023/
LOCATION:First Presbyterian Church of San Rafael (& Livestream)\, 1510 Fifth Avenue\, San Rafael\, CA & LIVESTREAM Worldwide\, California\, United States
CATEGORIES:Marin
ATTACH;FMTTYPE=image/jpeg:https://opencirclecenter.org/wp-content/uploads/2022/04/9f32230c-d327-4d30-a0fe-40cb318eb70a.jpg
END:VEVENT
END:VCALENDAR