BEGIN:VCALENDAR
VERSION:2.0
PRODID:-//Open Circle Center - ECPv5.7.0//NONSGML v1.0//EN
CALSCALE:GREGORIAN
METHOD:PUBLISH
X-WR-CALNAME:Open Circle Center
X-ORIGINAL-URL:https://opencirclecenter.org
X-WR-CALDESC:Events for Open Circle Center
BEGIN:VTIMEZONE
TZID:America/Los_Angeles
BEGIN:DAYLIGHT
TZOFFSETFROM:-0800
TZOFFSETTO:-0700
TZNAME:PDT
DTSTART:20190310T100000
END:DAYLIGHT
BEGIN:STANDARD
TZOFFSETFROM:-0700
TZOFFSETTO:-0800
TZNAME:PST
DTSTART:20191103T090000
END:STANDARD
END:VTIMEZONE
BEGIN:VEVENT
DTSTART;TZID=America/Los_Angeles:20190216T110000
DTEND;TZID=America/Los_Angeles:20190216T170000
DTSTAMP:20260422T043852
CREATED:20190130T211753Z
LAST-MODIFIED:20190130T213707Z
UID:8315-1550314800-1550336400@opencirclecenter.org
SUMMARY:Shakti Caterina Maggi ~  The Way of Perception
DESCRIPTION:Please join us for this special series of events with Italian teacher Shakti Caterina Maggi.\n \nTues. Feb\, 12th\, 7:00-8:45 pm ~ Awakening in Daily Living (Marin)\nThur. Feb. 14th\, 7:00-8:45 pm ~ Love in Non-Duality (Berkeley)\nSat. Feb. 16th\, 11:00am-5:00pm ~ The Way of Perception (Berkeley)\nSun. Feb. 17th\, 1:00-5:00 pm ~ The Way of Perception (Sebastopol) \nShakti is a teacher very well known in Europe and her native Italy\, who offers a contemporary and accessible vision of true awakening that is profoundly in tune with Advaita and nondual Tantric traditions. \nThe spiritual journey inevitably leads to the confrontation between our “spiritual life” and our “material life”\, discovering how and where we truly embody the truth of our heart. Realizing the emptiness of our true nature is just the starting point of an integration process that can take several years and involve all aspects of our lives\, and leads us to several moments of crisis in which old egoic patterns of behavior that are still based on the separative mind emerge to be dissolved by the light of Awareness. \nShakti has spent many years deepening this integration process. With wisdom\, humor\, and heartfelt connection\, she shares a message of discovering our divinity at the very core of our humanity. Shakti has been sharing this message of non-separation since 2003 with many people around the world\, especially in Italy and in Europe\, where she holds satsangs and retreats. \n~ The Way of Perception ~ Day-long intensive on Saturday March 16th  ─ which will include mediation\, satsang and perception exercises ─ will help us see and dissolve our conflictual view of life\, and enable us to live and embody a message of true peace and non-separation between human beings. \n“Peace is not a destination\, but a starting point. Find that Peace that rests behind anything and anybody and bring it into your world. Every human being looks for Peace in their inner or outer reality. In this call for clarity\, what we are looking for is what our true nature actually is.  \n“We are used to imagining that the dissolving of inner and outer conflicts comes as the result of some action\, whereas it is only when we move from Peace that those actions will bring the end of any conflict. Moving and living from Peace is recognizing what we are\, and integrating it in our everyday life. \n“Awakening to your true nature means to wake up to your true essence that lies behind any conflict of daily living. Thoughts and feelings are not an obstacle to this recognition\, but the direct expression of how we know or ignore ourselves. Once we find that silence that rests behind manifestation\, the ego will come back\, out of habit. If we can recognize its presence\, not as a disturbance but as an opportunity to integrate the message\, our everyday life becomes our true spiritual journey. The Peace of our Being becomes the world we see and live in.” \nwww.shakticaterinamaggi.com \nVideo \nThur. Feb. 14th Evening in Berkeley ~ Love in Non-Duality\nTime: 7:00pm – 8:45pm\nPlace: Chochmat HaLev\, 2215 Prince St.\, Berkeley\, CA\nSuggested donation: $15 – $25\nNo one turned away for lack of funds \nFeb. 16th Daylong in Berkeley ~ The Way of Perception\nTime: 11:00am – 5:00 pm\nPlace: Chochmat HaLev\, 2215 Prince St.\, Berkeley\, CA\nSliding scale: $65 – $125\nPre-registration is encouraged and suggested (not required) at info@shakticaterinamaggi.com\n(make payment at the door) ~ Partial scholarships available \nLunch Break:\nWelcome to bring your lunch\, and there are also various places near the Berkeley venue\, to go out to eat.\nNote: Per venue policy\, only vegetarian food is allowed on premises at Chochmat HaLev
URL:https://opencirclecenter.org/event/shakti-mar-16-2019/
LOCATION:Chochmat HaLev\, 2215 Prince St.\, Berkeley\, CA\, United States
ATTACH;FMTTYPE=image/jpeg:https://opencirclecenter.org/wp-content/uploads/2017/12/Shakti-Caterina...face-close-up...jpg
GEO:37.8536815;-122.2634046
X-APPLE-STRUCTURED-LOCATION;VALUE=URI;X-ADDRESS=Chochmat HaLev 2215 Prince St. Berkeley CA United States;X-APPLE-RADIUS=500;X-TITLE=2215 Prince St.:geo:-122.2634046,37.8536815
END:VEVENT
END:VCALENDAR