BEGIN:VCALENDAR
VERSION:2.0
PRODID:-//Open Circle Center - ECPv5.7.0//NONSGML v1.0//EN
CALSCALE:GREGORIAN
METHOD:PUBLISH
X-WR-CALNAME:Open Circle Center
X-ORIGINAL-URL:https://opencirclecenter.org
X-WR-CALDESC:Events for Open Circle Center
BEGIN:VTIMEZONE
TZID:America/Los_Angeles
BEGIN:DAYLIGHT
TZOFFSETFROM:-0800
TZOFFSETTO:-0700
TZNAME:PDT
DTSTART:20190310T100000
END:DAYLIGHT
BEGIN:STANDARD
TZOFFSETFROM:-0700
TZOFFSETTO:-0800
TZNAME:PST
DTSTART:20191103T090000
END:STANDARD
END:VTIMEZONE
BEGIN:VEVENT
DTSTART;TZID=America/Los_Angeles:20191015T190000
DTEND;TZID=America/Los_Angeles:20191015T204500
DTSTAMP:20260422T160245
CREATED:20190809T033345Z
LAST-MODIFIED:20190809T033505Z
UID:9322-1571166000-1571172300@opencirclecenter.org
SUMMARY:Shakti Caterina Maggi ~  Awakening in Daily Living
DESCRIPTION:Shakti is a teacher very well known in Europe and her native Italy\, who offers a contemporary and accessible vision of true awakening that is profoundly in tune with Advaita and nondual Tantric traditions. \nThe spiritual journey inevitably leads to the confrontation between our “spiritual life” and our “material life”\, discovering how and where we truly embody the truth of our heart. Realizing the emptiness of our true nature is just the starting point of an integration process that can take several years and involve all aspects of our lives\, and leads us to several moments of crisis in which old egoic patterns of behavior that are still based on the separative mind emerge to be dissolved by the light of Awareness. \nShakti has spent many years deepening this integration process. With wisdom\, humor\, and heartfelt connection\, she shares a message of discovering our divinity at the very core of our humanity. Shakti has been sharing this message of non-separation since 2003 with many people around the world\, especially in Italy and in Europe\, where she holds satsangs and retreats. \n“Peace is not a destination\, but a starting point. Find that Peace that rests behind anything and anybody and bring it into your world. Every human being looks for Peace in their inner or outer reality. In this call for clarity\, what we are looking for is what our true nature actually is.  \n“We are used to imagining that the dissolving of inner and outer conflicts comes as the result of some action\, whereas it is only when we move from Peace that those actions will bring the end of any conflict. Moving and living from Peace is recognizing what we are\, and integrating it in our everyday life. \n“Awakening to your true nature means to wake up to your true essence that lies behind any conflict of daily living. Thoughts and feelings are not an obstacle to this recognition\, but the direct expression of how we know or ignore ourselves. Once we find that silence that rests behind manifestation\, the ego will come back\, out of habit. If we can recognize its presence\, not as a disturbance but as an opportunity to integrate the message\, our everyday life becomes our true spiritual journey. The Peace of our Being becomes the world we see and live in.” \nwww.shakticaterinamaggi.com \nVideo \nSuggested donation $15 – $25\nNo one turned away for lack of funds
URL:https://opencirclecenter.org/event/shakti-mar-12-2019-2/
LOCATION:Falkirk Cultural Center\, San Rafael\, 1408 Mission Ave\, San Rafael\, CA\, United States
CATEGORIES:Marin
ATTACH;FMTTYPE=image/jpeg:https://opencirclecenter.org/wp-content/uploads/2019/08/Shakti.....smiling-in-white-close-up......jpg
GEO:37.9756761;-122.5319912
X-APPLE-STRUCTURED-LOCATION;VALUE=URI;X-ADDRESS=Falkirk Cultural Center San Rafael 1408 Mission Ave San Rafael CA United States;X-APPLE-RADIUS=500;X-TITLE=1408 Mission Ave:geo:-122.5319912,37.9756761
END:VEVENT
END:VCALENDAR