BEGIN:VCALENDAR
VERSION:2.0
PRODID:-//Open Circle Center - ECPv5.7.0//NONSGML v1.0//EN
CALSCALE:GREGORIAN
METHOD:PUBLISH
X-WR-CALNAME:Open Circle Center
X-ORIGINAL-URL:https://opencirclecenter.org
X-WR-CALDESC:Events for Open Circle Center
BEGIN:VTIMEZONE
TZID:America/Los_Angeles
BEGIN:DAYLIGHT
TZOFFSETFROM:-0800
TZOFFSETTO:-0700
TZNAME:PDT
DTSTART:20190310T100000
END:DAYLIGHT
BEGIN:STANDARD
TZOFFSETFROM:-0700
TZOFFSETTO:-0800
TZNAME:PST
DTSTART:20191103T090000
END:STANDARD
END:VTIMEZONE
BEGIN:VEVENT
DTSTART;TZID=America/Los_Angeles:20190518T110000
DTEND;TZID=America/Los_Angeles:20190518T170000
DTSTAMP:20260420T221928
CREATED:20190329T225444Z
LAST-MODIFIED:20190424T215315Z
UID:8760-1558177200-1558198800@opencirclecenter.org
SUMMARY:Mary Reed ~ Wise Power: BEing the Mechanism of Creation
DESCRIPTION:After calling the Himalayas her home for seven years\, today “accidental mystic” Mary Reed travels the world startling audiences awake with the Divine love conveyed through her profound mystical experiences. \nIn the summer of 2000\, she was a busy executive at an NGO in Washington\, DC\, directing global healthcare programs\, when\, out of the blue\, she started having powerful mystical visions that totally upended her life. After years of self-examination\, many of them spent living in a Tibetan Buddhist nunnery in northern India\, she returned to the west to inspire joyful collective resurrection with her unique view of our awakening world. \nHer work is rooted in eighteen years of direct engagement with Divine Masters\, whom she does not channel but temporarily becomes\, experiencing from within their unique forms — an ability she neither sought nor easily accepted. Mary guides others using only the wisdom gleaned directly from Divine sources\, without doctrinal bias or filters. Her unfathomable experiences are both an invitation and road map to visceral remembrance of the healing wisdom that is already within us. \nMary is the author of the award-winning book\, Unwitting Mystic and the subject of a feature film currently in development called Love\, Mary Reed. \n“As humanity maneuvers through this magnificent time of “fracturing” in our collective awareness\, most of us have become disoriented as the old foundations of normalcy have broken apart. Depending on the day and where our awareness is focused\, we’re either elated or alarmed\, empowered or enraged\, equanimous or trying to remember how to get there. Even the most awakened leaders\, teachers\, healers\, students and everyday folks must navigate the ever-shifting ground upon which we now stand\, at times uncomfortably\, together.  \n“From within — and as — Unitive Consciousness\, there are powerful perspectives and tools that can help us use what’s happening to create what comes next (or allow to be created). It brings me great joy to share these perspectives and tools with the Open Circle community.”  \nwww.unwittingmystic.com \nSuggested donation: $45-100 \nNo one turned away for lack of funds
URL:https://opencirclecenter.org/event/rmary-reed-eboc-may-2019-daylong-2-2-2/
LOCATION:Chochmat HaLev\, 2215 Prince St.\, Berkeley\, CA\, United States
CATEGORIES:East Bay
ATTACH;FMTTYPE=image/jpeg:https://opencirclecenter.org/wp-content/uploads/2018/10/Mary-Reed-2018....cropped....jpg
GEO:37.8536815;-122.2634046
X-APPLE-STRUCTURED-LOCATION;VALUE=URI;X-ADDRESS=Chochmat HaLev 2215 Prince St. Berkeley CA United States;X-APPLE-RADIUS=500;X-TITLE=2215 Prince St.:geo:-122.2634046,37.8536815
END:VEVENT
END:VCALENDAR