BEGIN:VCALENDAR
VERSION:2.0
PRODID:-//Open Circle Center - ECPv5.7.0//NONSGML v1.0//EN
CALSCALE:GREGORIAN
METHOD:PUBLISH
X-WR-CALNAME:Open Circle Center
X-ORIGINAL-URL:https://opencirclecenter.org
X-WR-CALDESC:Events for Open Circle Center
BEGIN:VTIMEZONE
TZID:America/Los_Angeles
BEGIN:DAYLIGHT
TZOFFSETFROM:-0800
TZOFFSETTO:-0700
TZNAME:PDT
DTSTART:20200308T100000
END:DAYLIGHT
BEGIN:STANDARD
TZOFFSETFROM:-0700
TZOFFSETTO:-0800
TZNAME:PST
DTSTART:20201101T090000
END:STANDARD
END:VTIMEZONE
BEGIN:VEVENT
DTSTART;TZID=America/Los_Angeles:20200706T100000
DTEND;TZID=America/Los_Angeles:20200706T120000
DTSTAMP:20260425T070532
CREATED:20200530T211152Z
LAST-MODIFIED:20200531T041447Z
UID:12891-1594029600-1594036800@opencirclecenter.org
SUMMARY:Riyaz Motan\, MFT ~ Embodied Presence: Listening and Guiding from Wholeness
DESCRIPTION:This event is for healers — psychotherapists\, counselors\, interns\, psychology students\, transformational coaches\, spiritual counselors\, holistic practitioners\, body/mind workers and other related healers that are interested the therapeutic applications of nondual wisdom. It is an invitation to explore our healing work as a sacred path of embodied awakening.   \nIn addition to our training and theoretical understanding\, many of us also have our own spiritual practices that support and inform us in our work.  Riyaz Motan invites us to more deeply embody and integrate our spiritual realization into our work with clients.  In attuning to presence\, and listening and relating from our deepest ground\, we facilitate the embodiment and expression of our essential qualities of being. Compassion\, wisdom\, clarity\, creativity\, joy\, intuition\, and more\, all arise spontaneously and effortlessly. This not only transforms our work\, it invites us\, and our clients\, into a deeper discovery of authentic being. \nThis webinar presents an introduction to the fundamentals of this nondual approach to healing work. Riyaz will be introducing the theoretical orientation\, some of the basic practices\, as well as the main benefits of this presence-based approach\, that he will be teaching in more depth during his 4-week course\, “Embodied Presence:  Listening and Guiding from Wholeness” that begins on July 10. \nThe course will explore the following areas:  \n~ Listening\, speaking\, and relating from embodied presence. \n~ Being the context\, not getting lost in content \n~ Learning to rest in\, and trust\, the unknown. \n~ Energetic resonance; listening with your whole being/whole body. \n~ Creating ‘experiential portals’; honing in on your clients’ beliefs\, feelings\, sensations\, and the relational field to facilitate spontaneous and deep discovery. \n~ Inviting the client to explore their experience from unconditional presence; helping them to drop below the problem-solving mind\, to be fully present and open\, and to allow for the spontaneous unfolding of their experience. \n~ Exploring the foundational role of energetic transmission in the healing relationship. \nRiyaz Motan\, MFT is a licensed psychotherapist and has been in practice for over 20 years.  He has been a long-time clinical supervisor to students and interns\, as well as serving as an adjunct professor at the California Institute of Integral Studies.  In 2013\, Riyaz took over teaching The Art of Listening at CIIS from his mentor\, John Prendergast\, PhD.\, who is a seminal figure and pioneer in the nondual approach to psychotherapy.  \nFrom early on in his career\, Riyaz has been interested in the integration of Eastern wisdom traditions with Western Psychology.  His particular passion is on a nondual approach to psychotherapy\, and he offers consultation\, trainings\, groups\, and presentations on this integrated approach. \nriyazmotan.com \nSuggested donation: $15 to $25\nNo one turned away for lack of funds.\nPlease register early if you can. \nREGISTER \nThe event will be recorded and emailed to participants within 48 hours.\nTo check your local time\, use a tool such as: Time Zone Converter
URL:https://opencirclecenter.org/event/riyaz-motan-jul-6-2020/
LOCATION:Online Video Meeting (phone access also available)
CATEGORIES:Online Event
ATTACH;FMTTYPE=image/jpeg:https://opencirclecenter.org/wp-content/uploads/2020/05/Riyaz-Motan_2020.jpeg
ORGANIZER;CN="Open%20Circle%20Center%20-%20Online%20Events":MAILTO:web@opencirclecenter.org
END:VEVENT
END:VCALENDAR