BEGIN:VCALENDAR
VERSION:2.0
PRODID:-//Open Circle Center - ECPv5.7.0//NONSGML v1.0//EN
CALSCALE:GREGORIAN
METHOD:PUBLISH
X-WR-CALNAME:Open Circle Center
X-ORIGINAL-URL:https://opencirclecenter.org
X-WR-CALDESC:Events for Open Circle Center
BEGIN:VTIMEZONE
TZID:America/Los_Angeles
BEGIN:DAYLIGHT
TZOFFSETFROM:-0800
TZOFFSETTO:-0700
TZNAME:PDT
DTSTART:20190310T100000
END:DAYLIGHT
BEGIN:STANDARD
TZOFFSETFROM:-0700
TZOFFSETTO:-0800
TZNAME:PST
DTSTART:20191103T090000
END:STANDARD
END:VTIMEZONE
BEGIN:VEVENT
DTSTART;TZID=America/Los_Angeles:20190825T140000
DTEND;TZID=America/Los_Angeles:20190825T170000
DTSTAMP:20260421T103745
CREATED:20190814T194013Z
LAST-MODIFIED:20190814T194013Z
UID:9351-1566741600-1566752400@opencirclecenter.org
SUMMARY:Prajna Ginty ~ Born to Love
DESCRIPTION:2-4 pm\, with refreshments until 5 pm \nWe will explore how deep love lives within us. Regardless of all that life brings to us once we claim our birth right we set free our most authentic expression empowered by love. Love is all that matters.  Tumble into your soft quiet openness and notice how protection and division dissolve.  \nPrajna Ginty\, MA. Mystic\, Shamanic Practitioner\, Hakomi Therapist\, Spiritual Mentor and author Edge of Grace\, A Fierce Awakening to Love. Prajna’s journey raising her twin daughters with disabilities continues to illuminate life’s spiritual and deeply human dimensions. She offers a rare fusion of non-dual mysticism\, somatic therapy\, and plant medicine. Prajna’s popular retreats catalyze the healing and integration of traumatic experiences empowering you to live as love.  Prajna was an early student of Adyashanti and lives with her family in Santa Cruz\, CA \nPrajna’s website:  www.awakeningprajna.com \nPrajna’s Youtube channel: www.youtube.com/c/AwakeningPrajna \nLocation: 8476 Sonoma Ave\, Sebastopol\, CA.\nPark in driveway or on Sonoma Ave. Walk down short driveway to house with carport.\nThe satsang starts with a short meditation\, then comments by the speaker\, followed by questions\, answers\, and discussion. Please arrive 10-15 minutes early for the best seat. \nSuggested donation: $10 to $20\, no one turned away for lack of funds.
URL:https://opencirclecenter.org/event/prajna-ginty-aug-25-2019/
LOCATION:Sebastopol\, 8476 Sonoma Ave.\, Sebastopol\, CA
CATEGORIES:Sonoma
ATTACH;FMTTYPE=image/jpeg:https://opencirclecenter.org/wp-content/uploads/2019/08/Prajna-Ginty_2019.jpg
GEO:38.4355887;-122.8590972
X-APPLE-STRUCTURED-LOCATION;VALUE=URI;X-ADDRESS=Sebastopol 8476 Sonoma Ave. Sebastopol CA;X-APPLE-RADIUS=500;X-TITLE=8476 Sonoma Ave.:geo:-122.8590972,38.4355887
END:VEVENT
END:VCALENDAR