BEGIN:VCALENDAR
VERSION:2.0
PRODID:-//Open Circle Center - ECPv5.7.0//NONSGML v1.0//EN
CALSCALE:GREGORIAN
METHOD:PUBLISH
X-WR-CALNAME:Open Circle Center
X-ORIGINAL-URL:https://opencirclecenter.org
X-WR-CALDESC:Events for Open Circle Center
BEGIN:VTIMEZONE
TZID:America/Los_Angeles
BEGIN:DAYLIGHT
TZOFFSETFROM:-0800
TZOFFSETTO:-0700
TZNAME:PDT
DTSTART:20230312T100000
END:DAYLIGHT
BEGIN:STANDARD
TZOFFSETFROM:-0700
TZOFFSETTO:-0800
TZNAME:PST
DTSTART:20231105T090000
END:STANDARD
END:VTIMEZONE
BEGIN:VEVENT
DTSTART;TZID=America/Los_Angeles:20230827T140000
DTEND;TZID=America/Los_Angeles:20230827T160000
DTSTAMP:20260425T145910
CREATED:20230810T023404Z
LAST-MODIFIED:20230810T024032Z
UID:23860-1693144800-1693152000@opencirclecenter.org
SUMMARY:Peter Russell ~ Nonduality and Awakening ~ InPerson Local Event
DESCRIPTION:The Indian philosophy of advaita\, or nonduality\, teaches that consciousness is the primary reality\, the fundamental essence of the cosmos. But what does this really mean? It certainly doesn’t appear that way to our eyes. And how can we understand awakening from this perspective. What are we awakening from? And to? Peter Russell will explore questions such as these\, and the essential role that letting go plays in this journey. \nBio: Peter Russell\, M.A.\, D.C.S. is a leading thinker on consciousness and contemporary spirituality. He coined the term “global brain” with his 1980s bestseller of the same name in which he predicted the internet and the impact it would have on humanity. Other books include Waking UP in Time\, From Science to God\, and his most recent Letting Go of Nothing.\nPeter’s website: www.peterrussell.com\nThe satsang includes a meditation\, comments by the speaker\, then Q&A and discussion.\nSatsang: 2-4 pm\nRefreshments: until 5 \nSuggested Donation:  $10- $20\, no one turned away.\nNo pre-registration. Pay at door when you arrive. \nLocation: 8476 Sonoma Ave\, Sebastopol\, CA. Park on Sonoma Ave.\nNote: The address sign says 8474/8476.  Park on the street\, and walk down the short driveway to the house with the carport.\nPlease arrive 10-15 minutes early.\nPlease dress warmly\, doors & windows will be open!
URL:https://opencirclecenter.org/event/peter-russell-aug-27-2023/
LOCATION:Sebastopol\, 8476 Sonoma Ave.\, Sebastopol\, CA
CATEGORIES:Sonoma
ATTACH;FMTTYPE=image/jpeg:https://opencirclecenter.org/wp-content/uploads/2023/03/Peter-Russell_2023.jpg
GEO:38.4355887;-122.8590972
X-APPLE-STRUCTURED-LOCATION;VALUE=URI;X-ADDRESS=Sebastopol 8476 Sonoma Ave. Sebastopol CA;X-APPLE-RADIUS=500;X-TITLE=8476 Sonoma Ave.:geo:-122.8590972,38.4355887
END:VEVENT
END:VCALENDAR