BEGIN:VCALENDAR
VERSION:2.0
PRODID:-//Open Circle Center - ECPv5.7.0//NONSGML v1.0//EN
CALSCALE:GREGORIAN
METHOD:PUBLISH
X-WR-CALNAME:Open Circle Center
X-ORIGINAL-URL:https://opencirclecenter.org
X-WR-CALDESC:Events for Open Circle Center
BEGIN:VTIMEZONE
TZID:America/Los_Angeles
BEGIN:DAYLIGHT
TZOFFSETFROM:-0800
TZOFFSETTO:-0700
TZNAME:PDT
DTSTART:20200308T100000
END:DAYLIGHT
BEGIN:STANDARD
TZOFFSETFROM:-0700
TZOFFSETTO:-0800
TZNAME:PST
DTSTART:20201101T090000
END:STANDARD
END:VTIMEZONE
BEGIN:VEVENT
DTSTART;TZID=America/Los_Angeles:20200906T100000
DTEND;TZID=America/Los_Angeles:20200906T120000
DTSTAMP:20260425T144638
CREATED:20200808T231006Z
LAST-MODIFIED:20200808T231006Z
UID:13563-1599386400-1599393600@opencirclecenter.org
SUMMARY:Pamela Wilson ~ Power to the Peaceful
DESCRIPTION:Inner satsang uncontains and roots that which contracted to serve or protect. There is an energetic cost in maintaining conditioning\, such an effort to contain and direct the flow of life and vastness! We all have noticed in relaxation everything unwinds and opens\, allowing deeper breath\, clarity\, insights and rest. What may not have been noticed is that there is a transmission that spontaneously starts flowing from the heart and the body\, and even from the eyes. Unseen but nevertheless powerful in its permeating presence.  \nJoin Pamela and your fellow Sages! What a gift to share and celebrate!  \nPamela evokes through dialogue\, inquiry and her very presence the qualities of unconditional love and radical acceptance. She is celebrated for her ability to open the heart and create a space in which long-cherished struggles and notions about one’s identity relax. Featured in the book Ordinary Women\, Extraordinary Wisdom\, Pamela is at her best in heart-felt dialogue\, so please bring your questions! \nMore about Pamela: www.pamelasatsang.com \nSuggested donation: $15 to $25\nNo one turned away for lack of funds.\nPlease register early if you can. \nREGISTER \nThe event will be recorded and emailed to participants within a week.\nTo check your local time\, use a tool such as: Time Zone Converter
URL:https://opencirclecenter.org/event/pamela-wilson-sept-9-2020/
LOCATION:Online Video Meeting (phone access also available)
CATEGORIES:Online Event
ATTACH;FMTTYPE=image/jpeg:https://opencirclecenter.org/wp-content/uploads/2019/05/Pamela-2019-May....jpg
ORGANIZER;CN="Open%20Circle%20Online%20Retreats":MAILTO:web@opencirclecenter.org
END:VEVENT
END:VCALENDAR