BEGIN:VCALENDAR
VERSION:2.0
PRODID:-//Open Circle Center - ECPv5.7.0//NONSGML v1.0//EN
CALSCALE:GREGORIAN
METHOD:PUBLISH
X-WR-CALNAME:Open Circle Center
X-ORIGINAL-URL:https://opencirclecenter.org
X-WR-CALDESC:Events for Open Circle Center
BEGIN:VTIMEZONE
TZID:America/Los_Angeles
BEGIN:DAYLIGHT
TZOFFSETFROM:-0800
TZOFFSETTO:-0700
TZNAME:PDT
DTSTART:20190310T100000
END:DAYLIGHT
BEGIN:STANDARD
TZOFFSETFROM:-0700
TZOFFSETTO:-0800
TZNAME:PST
DTSTART:20191103T090000
END:STANDARD
END:VTIMEZONE
BEGIN:VEVENT
DTSTART;TZID=America/Los_Angeles:20190612T100000
DTEND;TZID=America/Los_Angeles:20190612T120000
DTSTAMP:20260421T134909
CREATED:20190520T182555Z
LAST-MODIFIED:20190522T213538Z
UID:8877-1560333600-1560340800@opencirclecenter.org
SUMMARY:Pamela Wilson ~ The Ancient Heart: Living as Elemental Being ~ 4 Day Online Solstice Retreat
DESCRIPTION:Please join Pamela Wilson and Open Circle host Sara Kasprowicz for: \nOnline Solstice Retreat\n“The Ancient Heart: Living as Elemental Being”\nJune 12\, 14\, 19\, 21 (Wednesdays & Fridays)\n10 am to 12 noon (Pacific Time – San Francisco\, CA\, USA)\nTime Zone Converter \nWe will dive into our deepest being\, which is neither human or divine. Exploring and stabilizing presence\, clarity\, confidence and strength through respect and listening to the ancientness that lives in the heart of consciousness. Each one of us is cherished by the heart of Vastness\, yet our primary relationship is with the louder Mind rather than the relaxed Stillness within. Intimacy with this Intelligent Unmoving Heart fulfills most longings\, and roots us as Listening and Space. \nPamela evokes through dialogue\, inquiry and her very presence the qualities of unconditional love and radical acceptance. She is celebrated for her ability to open the heart and create a space in which long-cherished struggles and notions about one’s identity relax. Featured in the book Ordinary Women\, Extraordinary Wisdom\, Pamela is at her best in heart-felt dialogue\, so please bring your questions! \nMore about Pamela: www.pamelasatsang.com \nThis Retreat consists of: \n\n4 live and interactive 2-hour Satsangs with Pamela in Zoom (a total of 8 hours)\naudio and video recordings of all meetings\n\nWe meet via Zoom – a platform allowing for live video conversations\, which means you will have the opportunity to see/hear and be seen/heard by Pamela and other participants. You will also have the option to switch your camera off and remain invisible. \nTo proceed to Registration\, please affirm that you have read and agree to these terms: \nclick here to READ TERMS.\nI Accept Terms \nRegistration: $70 – $100\nPLEASE REGISTER EARLY if you can.\nFor questions please contact Sara at sara@opencirclecenter.org.
URL:https://opencirclecenter.org/event/pamela-wilson-online-solstice-retreat-12-june-2019/
LOCATION:Online Video Meeting (phone access also available)
CATEGORIES:Online Event
ATTACH;FMTTYPE=image/jpeg:https://opencirclecenter.org/wp-content/uploads/2019/05/Pamela-2019-May....jpg
ORGANIZER;CN="Open%20Circle%20Center%20-%20Online%20Events":MAILTO:web@opencirclecenter.org
END:VEVENT
END:VCALENDAR