BEGIN:VCALENDAR
VERSION:2.0
PRODID:-//Open Circle Center - ECPv5.7.0//NONSGML v1.0//EN
CALSCALE:GREGORIAN
METHOD:PUBLISH
X-WR-CALNAME:Open Circle Center
X-ORIGINAL-URL:https://opencirclecenter.org
X-WR-CALDESC:Events for Open Circle Center
BEGIN:VTIMEZONE
TZID:America/Los_Angeles
BEGIN:DAYLIGHT
TZOFFSETFROM:-0800
TZOFFSETTO:-0700
TZNAME:PDT
DTSTART:20190310T100000
END:DAYLIGHT
BEGIN:STANDARD
TZOFFSETFROM:-0700
TZOFFSETTO:-0800
TZNAME:PST
DTSTART:20191103T090000
END:STANDARD
END:VTIMEZONE
BEGIN:VEVENT
DTSTART;TZID=America/Los_Angeles:20191006T100000
DTEND;TZID=America/Los_Angeles:20191006T120000
DTSTAMP:20260422T113117
CREATED:20191004T194510Z
LAST-MODIFIED:20191004T194510Z
UID:9560-1570356000-1570363200@opencirclecenter.org
SUMMARY:Pamela Wilson ~ Relaxed\, Rooted\, Flow
DESCRIPTION:“I am Rooted and I Flow” – a marvelous quote by Virginia Wolff confirming what is already here for all of us as embodied presence. Let’s explore this relaxed rootedness and honor together the intelligence of Life’s flow\, within and without.  \nPamela invites us to uncontain the field of presence\, clarity and strength within by noticing the ongoing inner satsang that appears in the heart\, body and mind. Bringing warmth and compassion to what is tight or troubled liberates the past from the body\, allowing a rooted\, clear and free flowing expansion. Life then can live itself\, no role play required!  \nPamela evokes through dialogue\, inquiry and her very presence the qualities of unconditional love and radical acceptance. She is celebrated for her ability to open the heart and create a space in which long-cherished struggles and notions about one’s identity relax. Featured in the book Ordinary Women\, Extraordinary Wisdom\, Pamela is at her best in heart-felt dialogue\, so please come and bring your questions! \nwww.pamelasatsang.com \nSuggested donation: $15 to $25
URL:https://opencirclecenter.org/event/pamela-wilson-oct-6-2019-2/
LOCATION:Chochmat HaLev\, 2215 Prince St.\, Berkeley\, CA\, United States
CATEGORIES:Featured
ATTACH;FMTTYPE=image/jpeg:https://opencirclecenter.org/wp-content/uploads/2019/05/Pamela-2019-May....jpg
GEO:37.8536815;-122.2634046
X-APPLE-STRUCTURED-LOCATION;VALUE=URI;X-ADDRESS=Chochmat HaLev 2215 Prince St. Berkeley CA United States;X-APPLE-RADIUS=500;X-TITLE=2215 Prince St.:geo:-122.2634046,37.8536815
END:VEVENT
END:VCALENDAR