BEGIN:VCALENDAR
VERSION:2.0
PRODID:-//Open Circle Center - ECPv5.7.0//NONSGML v1.0//EN
CALSCALE:GREGORIAN
METHOD:PUBLISH
X-WR-CALNAME:Open Circle Center
X-ORIGINAL-URL:https://opencirclecenter.org
X-WR-CALDESC:Events for Open Circle Center
BEGIN:VTIMEZONE
TZID:America/Los_Angeles
BEGIN:DAYLIGHT
TZOFFSETFROM:-0800
TZOFFSETTO:-0700
TZNAME:PDT
DTSTART:20190310T100000
END:DAYLIGHT
BEGIN:STANDARD
TZOFFSETFROM:-0700
TZOFFSETTO:-0800
TZNAME:PST
DTSTART:20191103T090000
END:STANDARD
END:VTIMEZONE
BEGIN:VEVENT
DTSTART;TZID=America/Los_Angeles:20190721T100000
DTEND;TZID=America/Los_Angeles:20190721T120000
DTSTAMP:20260421T160446
CREATED:20190709T172653Z
LAST-MODIFIED:20190709T173450Z
UID:9251-1563703200-1563710400@opencirclecenter.org
SUMMARY:Pamela Wilson ~ Rooted Flow
DESCRIPTION:10 am to 12 noon (Pacific Time – San Francisco\, CA\, USA) Time Zone Converter \n“I am Rooted and I Flow” – a marvelous quote by Virginia Wolff confirming what is already here for all of us as embodied presence. Let’s explore this relaxed rootedness and honor together the intelligence of Life’s flow\, within and without.  \nPamela invites us to uncontain the field of presence\, clarity and strength within by noticing the ongoing inner satsang that appears in the heart\, body and mind. Bringing warmth and compassion to what is tight or troubled liberates the past from the body\, allowing a rooted\, clear and free flowing expansion. Life then can live itself\, no role play required!  \nPamela evokes through dialogue\, inquiry and her very presence the qualities of unconditional love and radical acceptance. She is celebrated for her ability to open the heart and create a space in which long-cherished struggles and notions about one’s identity relax. Featured in the book Ordinary Women\, Extraordinary Wisdom\, Pamela is at her best in heart-felt dialogue\, so please come and bring your questions! \nwww.pamelasatsang.com \nSuggested donation: $15 to $25\nPLEASE REGISTER EARLY if you can. Review in advance info for joining event.\nNOTE: All event are shown in PACIFIC TIME\, as in San Francisco\, CA\, USA (more details on time conversion below) \nTo proceed to Registration\, please affirm that you have read and agree to these terms: \nclick here to READ TERMS.\nI Accept Terms \n  \nTIME CONVERSION for your location (see link to Time Zone Converter near top of this page)\nAll event are shown in PACIFIC TIME\, as in San Francisco\, CA\, USA: \n  \nMORE INFO ABOUT TIME ZONE CONVERSION\nPacific Daylight Time (PDT) March into November and Pacific Standard Time (PST) November into March\nCheck specific dates here: Clock Changes in United States \nUTC (Coordinated Universal Time)\, same as GMT (Greenwich Mean Time)\, is the international basis for other time zones.\n10 am PDT (Pacific Daylight Time – San Francisco\, CA\, USA) is 5 pm UTC \n10 am PST (Pacific Standard Time – San Francisco\, CA\, USA) is 6 pm UTC
URL:https://opencirclecenter.org/event/pamela-wilson-july-21-2019/
LOCATION:Online Video Meeting (phone access also available)
CATEGORIES:Online Event
ATTACH;FMTTYPE=image/jpeg:https://opencirclecenter.org/wp-content/uploads/2015/11/Pamela-Wilson_2013.jpg
ORGANIZER;CN="Open%20Circle%20Center%20-%20Online%20Events":MAILTO:web@opencirclecenter.org
END:VEVENT
END:VCALENDAR