BEGIN:VCALENDAR
VERSION:2.0
PRODID:-//Open Circle Center - ECPv5.7.0//NONSGML v1.0//EN
CALSCALE:GREGORIAN
METHOD:PUBLISH
X-WR-CALNAME:Open Circle Center
X-ORIGINAL-URL:https://opencirclecenter.org
X-WR-CALDESC:Events for Open Circle Center
BEGIN:VTIMEZONE
TZID:America/Los_Angeles
BEGIN:DAYLIGHT
TZOFFSETFROM:-0800
TZOFFSETTO:-0700
TZNAME:PDT
DTSTART:20240310T100000
END:DAYLIGHT
BEGIN:STANDARD
TZOFFSETFROM:-0700
TZOFFSETTO:-0800
TZNAME:PST
DTSTART:20241103T090000
END:STANDARD
END:VTIMEZONE
BEGIN:VEVENT
DTSTART;TZID=America/Los_Angeles:20240101T110000
DTEND;TZID=America/Los_Angeles:20240101T170000
DTSTAMP:20260420T222351
CREATED:20231216T170330Z
LAST-MODIFIED:20231216T170330Z
UID:25582-1704106800-1704128400@opencirclecenter.org
SUMMARY:Pamela Wilson ~ New Year's Day Retreat ~ In-Person Gathering
DESCRIPTION:“May all beings return to natural balance\, heartfelt clear seeing\, listening within and living as this courageous and unshakeable Oneness” \nJoin us on New Year’s Day for in-person daylong meeting with Pamela Wilson at a private residence in the hills of Fairfax. \nIn addition to enjoying the warmth of community in the midst of winter\, and on this traditional day of renewal\, we will explore and enjoy the themes of naturalness\, resting in timelessness\, and unconditional receptivity. \nPamela Wilson evokes through dialogue\, inquiry and her very presence the qualities of unconditional love and radical acceptance. She endears herself to her audiences with her playful and light-hearted humor\, combined with compassion and deep understanding of what it is to be human. She is celebrated for her ability to open the heart\, call forth our own inner sage\, and create a space in which long-held struggles and notions about one’s identity relax. Pamela is featured in the book Ordinary Women\, Extraordinary Wisdom. \nMore about Pamela: www.pamelasatsang.com \nThe meeting will be from 11:00am to 5:00pm\, and is by donation.\nWe hope you will join us! \nFor more information and to REGISTER:\nEmail LocalEvents@opencirclecenter.org\nLocation:\nThe meeting will be held at a private home in the Fairfax hills\, with views of Mount Tam and hiking trails.\nAddress and directions will be provided upon registration. \nPlease bring your own lunch\, or feel free to go into town to one of the restaurants or to Good Earth Natural Foods.
URL:https://opencirclecenter.org/event/pamela-wilson-jan-1-2024/
LOCATION:Private country home\, Fairfax\, CA
CATEGORIES:Marin
ATTACH;FMTTYPE=image/jpeg:https://opencirclecenter.org/wp-content/uploads/2021/07/Pamela_2021-07_Pref_-Crop3_BRIGHT.jpg
END:VEVENT
END:VCALENDAR