BEGIN:VCALENDAR
VERSION:2.0
PRODID:-//Open Circle Center - ECPv5.7.0//NONSGML v1.0//EN
CALSCALE:GREGORIAN
METHOD:PUBLISH
X-WR-CALNAME:Open Circle Center
X-ORIGINAL-URL:https://opencirclecenter.org
X-WR-CALDESC:Events for Open Circle Center
BEGIN:VTIMEZONE
TZID:America/Los_Angeles
BEGIN:DAYLIGHT
TZOFFSETFROM:-0800
TZOFFSETTO:-0700
TZNAME:PDT
DTSTART:20210314T100000
END:DAYLIGHT
BEGIN:STANDARD
TZOFFSETFROM:-0700
TZOFFSETTO:-0800
TZNAME:PST
DTSTART:20211107T090000
END:STANDARD
END:VTIMEZONE
BEGIN:VEVENT
DTSTART;TZID=America/Los_Angeles:20210227T100000
DTEND;TZID=America/Los_Angeles:20210227T120000
DTSTAMP:20260422T030926
CREATED:20210216T211922Z
LAST-MODIFIED:20210219T153130Z
UID:15660-1614420000-1614427200@opencirclecenter.org
SUMMARY:Community Gathering: Togetherness & Co-Creation (FREE)
DESCRIPTION:Let us get to know each other\, while co-creating Open Circle’s future together! \nThis gathering will be a space where Members of our community (You!) can come together\, connect with others\, as well as influence Open Circle’s evolution. \nWe’ve had opportunities to connect deeply in the shared space of Satsang. We may feel a deeper knowing and connection to each other here than we experience in other social circles. Here’s an opportunity to connect with each other outside of the context of a formal session with a teacher. \nWe will also invite your feedback about Open Circle’s offerings. Please bring your ideas and suggestions. Let us know how we may better serve you\, serve each other. What teachers and topics would you like to see in our program? What has been working well\, and what might be changed?\nWe’d love to hear your voice! \nThe meeting will be co-hosted by Open Circle’s Phil & Sara. There will be a mix of sharing\, and brainstorming\, in small groups\, as well as group conversations. There will be time to exchange contact information for those who wish for more connection with each other beyond our Satsangs and courses. \nREGISTER FREE\nTo check your local time\, use a tool such as: Time Zone Converter
URL:https://opencirclecenter.org/event/oc-community-gathering-feb-27-2021/
LOCATION:Online Video Meeting (phone access also available)
CATEGORIES:Online Event
ATTACH;FMTTYPE=image/jpeg:https://opencirclecenter.org/wp-content/uploads/2021/02/community-hands.jpg
ORGANIZER;CN="Open%20Circle%20Center%20-%20Online%20Events":MAILTO:web@opencirclecenter.org
END:VEVENT
END:VCALENDAR