BEGIN:VCALENDAR
VERSION:2.0
PRODID:-//Open Circle Center - ECPv5.7.0//NONSGML v1.0//EN
CALSCALE:GREGORIAN
METHOD:PUBLISH
X-WR-CALNAME:Open Circle Center
X-ORIGINAL-URL:https://opencirclecenter.org
X-WR-CALDESC:Events for Open Circle Center
BEGIN:VTIMEZONE
TZID:America/Los_Angeles
BEGIN:DAYLIGHT
TZOFFSETFROM:-0800
TZOFFSETTO:-0700
TZNAME:PDT
DTSTART:20190310T100000
END:DAYLIGHT
BEGIN:STANDARD
TZOFFSETFROM:-0700
TZOFFSETTO:-0800
TZNAME:PST
DTSTART:20191103T090000
END:STANDARD
END:VTIMEZONE
BEGIN:VEVENT
DTSTART;TZID=America/Los_Angeles:20190910T190000
DTEND;TZID=America/Los_Angeles:20190910T230000
DTSTAMP:20260421T144002
CREATED:20190812T210052Z
LAST-MODIFIED:20190812T210052Z
UID:9343-1568142000-1568156400@opencirclecenter.org
SUMMARY:Mukti ~ Discover Your True Self
DESCRIPTION:What is the most essential you that is present regardless of thought or emotion? Who or what has been present for all of your life experience? How does this spirit of constancy touch your life? Mukti will offer a mediation and then speak on these compelling topics followed by the opportunity for questions and answers pointing directly to the true nature of Self.  \nMukti\, whose name is translated as “liberation\,” is a teacher in the lineage of Adyashanti\, her husband. Prior to 1996\, when she began studying the nondual\, Zen-flavored teachings of Adyashanti\, Mukti studied the teachings of Paramahansa Yogananda for over 20 years. In her own teachings\, Mukti points audiences back to their natural state of wholeness or undivided consciousness. Licensed in acupuncture and certified to teach hatha yoga\, Mukti has a love of the whole\, in form as well as the formless. \ninfo on Mukti’s Teachings \nSuggested donation: $15 – $25\nNo one turned away for lack of funds
URL:https://opencirclecenter.org/event/mukti-sept-10-2019-2/
LOCATION:Falkirk Cultural Center\, San Rafael\, 1408 Mission Ave\, San Rafael\, CA\, United States
CATEGORIES:Featured
ATTACH;FMTTYPE=image/jpeg:https://opencirclecenter.org/wp-content/uploads/2017/02/Mukti-Red-DELLIS-5in-72dpi.jpg
GEO:37.9756761;-122.5319912
X-APPLE-STRUCTURED-LOCATION;VALUE=URI;X-ADDRESS=Falkirk Cultural Center San Rafael 1408 Mission Ave San Rafael CA United States;X-APPLE-RADIUS=500;X-TITLE=1408 Mission Ave:geo:-122.5319912,37.9756761
END:VEVENT
END:VCALENDAR