BEGIN:VCALENDAR
VERSION:2.0
PRODID:-//Open Circle Center - ECPv5.7.0//NONSGML v1.0//EN
CALSCALE:GREGORIAN
METHOD:PUBLISH
X-WR-CALNAME:Open Circle Center
X-ORIGINAL-URL:https://opencirclecenter.org
X-WR-CALDESC:Events for Open Circle Center
BEGIN:VTIMEZONE
TZID:America/Los_Angeles
BEGIN:DAYLIGHT
TZOFFSETFROM:-0800
TZOFFSETTO:-0700
TZNAME:PDT
DTSTART:20190310T100000
END:DAYLIGHT
BEGIN:STANDARD
TZOFFSETFROM:-0700
TZOFFSETTO:-0800
TZNAME:PST
DTSTART:20191103T090000
END:STANDARD
END:VTIMEZONE
BEGIN:VEVENT
DTSTART;TZID=America/Los_Angeles:20190913T190000
DTEND;TZID=America/Los_Angeles:20190914T210000
DTSTAMP:20260421T192909
CREATED:20190828T221459Z
LAST-MODIFIED:20190830T184033Z
UID:9411-1568401200-1568494800@opencirclecenter.org
SUMMARY:Matt Kahn ~ Healing Your Empathic Heart
DESCRIPTION:A special message written from Matt to the Berkeley audience: \n“What’s not to love about Berkeley? From the free-spirited nature of a passionate artist-driven community to farm-to-table ethics celebrated throughout so many restaurants and cafes alike\, Berkeley is home to the progressive thinker. Balance all this with the energies of oneness that permeate the hearts of so many residents and you have a place where tech execs\, die-hard foodies and spiritual warriors can call home. \n“This is why I am always so privileged to make Berkeley a featured stop along my annual group-healing tour. My intuition tells me this year will be perhaps the most potent and miraculous Berkeley weekend of them all. I’d love to gather with you there on September 13 and 14!” \nThe Heart of Awakening \nFri. September 13\, 7:00-9:00pm PDT \nAll seating is GENERAL ADMISSION and on a first-come\, first-served basis.  \nWhat if there was an easier\, more direct and loving way to experience the light of self-realization? What if it didn’t require effort\, years of study\, or endless hours of practice in order to be experienced? Are you ready to explore a brand-new way of waking up that allows the ego to let go and surrender with kindness\, simplicity\, and ease? If so\, then please join best-selling author\, YouTube sensation\, and empathic healer Matt Kahn to enter a brand-new paradigm of revelation and self-discovery. Those who are unable to attend both weekend gatherings are able to purchase livestream passes for either event. If you are ready to explore a new reality of truth that is as equally loving and supportive as it is aligned and wise\, then this event will be an exciting new way to dissolve the boundaries of perception. \n  \nUltimate Liberation \nSat. September 14\, 11:00am – 5:00pm PDT \nAll seating is GENERAL ADMISSION and on a first-come\, first-served basis.  \nThis full-day immersion is your opportunity to experience the living presence of liberation or Samadhi that is transmitted on an energetic level as Matt speaks. The more often the energy of Samadhi is felt\, the more it is received by the subconscious mind to be integrated and embodied throughout your life. If you are ready to end the seeking and suffering and step into the fullness of your radiant eternal being\, then this one-day immersion is an incredibly healing way to open the door of liberation with compassion\, peace and ease. \nDiscover what has nearly 12 million YouTube viewers feeling loved\, supported\, awakened\, and opened to the greatest possibilities in life as part of “The Love Revolution.” The video teachings we offer are a mere taste of the full-body experience of our LIVE events! Don’t just hear about it online afterwards\, but come be in the healing energy as the spontaneous transmission unfolds. Each gathering is a living\, breathing\, visceral experience of unconditional love to inspire your soul’s journey to be reawakened\, and reimagined in the most heart-centered way. \nUsing his laser-like\, highly-honed intuitive abilities of seeing\, hearing\, feeling\, and direct knowing\, Matt Kahn feels the emotions of others and is able to accurately pinpoint what blocks any heart from opening. As a result\, he brings forth revolutionary teachings through the spoken word to assist energetically-sensitive beings in healing the body\, awakening the soul\, and transforming reality to its absolute potential. At each live event\, Matt delivers channeled teachings that guide you into higher levels of consciousness with humor\, gentleness\, and ease. \nIf you’re ready to explore your life’s purpose on a deeper level\, feel more aligned with Spirit\, and contribute to the awakening of humanity by shining your light as never before; you are invited to receive the timeless insights\, loving wisdom\, and healing energy that are offered at each Soul Gathering\, Weekend Immersion\, and Retreat event. The messages\, healing energies\, and “It’s amazing how he’s speaking just to me!” moments are a part of the alchemical combination that have had people coming back to these gatherings again and again from states and even countries away. \nEach live event is a life-changing opportunity to: \n\nAccelerate healing on a physical\, emotional\, and energetic level\nFeel more whole\, nourished\, inspired and fulfilled\nConnect into the radiance of your highest vibration\nAlign with the power of the Universe\nHave greater access to your own intuitive gifts\nActivate the light of your highest potential\nBecome more happy\, abundant\, joyful\, and free\n\nMatt Kahn is a spiritual teacher and highly-attuned empathic healer. He is the author of the books\, Whatever Arises\, Love That and Everything Is Here To Help You. His spontaneous awakening arose out of an out-of-body experience at the age of 8\, and through his direct experiences with ascended masters and archangels throughout his life. Using his intuitive abilities of seeing\, hearing\, feeling\, and direct knowing\, as an empath\, Matt feels the emotions of others and is able to pinpoint what blocks any heart from opening. As a result\, he brings forth revolutionary teachings through both the written and spoken word that assist energetically-sensitive beings in healing the body\, awakening the soul\, and transforming reality through the power of love. \nThe link to specific details and tickets: \nhttps://tickets.brightstarevents.com/event/matt-kahn-live-in-berkeley?_ga=2.164198591.181328144.1551198857-2108326968.1551198857 \n 
URL:https://opencirclecenter.org/event/matt-kahn-empathic-heart-aug-2019/
LOCATION:Northbrae Community Church (& Livestream)\, 941 The Alameda\, Berkeley\, CA\, USA & LIVESTREAM\, Worldwide
CATEGORIES:East Bay
ATTACH;FMTTYPE=image/jpeg:https://opencirclecenter.org/wp-content/uploads/2019/08/Matt-Kahn-2019-Aug.....Healing-the-HEart...hi-res.jpg
GEO:37.890591;-122.276109
X-APPLE-STRUCTURED-LOCATION;VALUE=URI;X-ADDRESS=Northbrae Community Church (& Livestream) 941 The Alameda Berkeley CA USA & LIVESTREAM Worldwide;X-APPLE-RADIUS=500;X-TITLE=941 The Alameda:geo:-122.276109,37.890591
END:VEVENT
END:VCALENDAR