BEGIN:VCALENDAR
VERSION:2.0
PRODID:-//Open Circle Center - ECPv5.7.0//NONSGML v1.0//EN
CALSCALE:GREGORIAN
METHOD:PUBLISH
X-WR-CALNAME:Open Circle Center
X-ORIGINAL-URL:https://opencirclecenter.org
X-WR-CALDESC:Events for Open Circle Center
BEGIN:VTIMEZONE
TZID:America/Los_Angeles
BEGIN:DAYLIGHT
TZOFFSETFROM:-0800
TZOFFSETTO:-0700
TZNAME:PDT
DTSTART:20230312T100000
END:DAYLIGHT
BEGIN:STANDARD
TZOFFSETFROM:-0700
TZOFFSETTO:-0800
TZNAME:PST
DTSTART:20231105T090000
END:STANDARD
END:VTIMEZONE
BEGIN:VEVENT
DTSTART;TZID=America/Los_Angeles:20231222T073000
DTEND;TZID=America/Los_Angeles:20231222T083000
DTSTAMP:20260420T191554
CREATED:20231018T183035Z
LAST-MODIFIED:20231018T183035Z
UID:24613-1703230200-1703233800@opencirclecenter.org
SUMMARY:Marlies Myoku Cocheret ~ Exploring Meditation
DESCRIPTION:Whether you are starting to meditate or already have a meditation practice\, this bi-monthly meditation with Marlies will help you drop deeper into connection with yourself\, setting the tone for the day in an embodied way.  \nYour body is a refined sense organ.\nIt is a portal into the beautiful Silent Presence that you are.\nLet’s sit together … abide as You … for All \nMeditation is the art of inner exploration. It’s an opportunity to slow down and receive all of life exactly as it is. Using your body as a portal into your Yourself\, we will explore how to connect with and abide as your true essence underneath all the daily busy-ness. \nYou may have noticed that often the mind does not settle easily. In fact\, in quietude\, all the things you have been trying to avoid often come bubbling up to the surface. It’s not a problem. They simply want to be met with that gentle\, fierce and spacious awareness which is what you truly are. \nThe more we learn to rest as our underlying silent nature\, no matter what arises within us\, the easier it becomes to keep our seat when the winds of life pull us back and forth. \nCome set the tone for the day and be close with yourself in an embodied way. \nWatch Marlies share about meditation: \n\nMarlies Myoku Cocheret was invited to teach the Dharma by Adyashanti in 2000. She teaches meditation\, retreats\, and works as a Hakomi therapist and psychologist. She brings a potent invitation into the deep silence that you are\, and guides you into embodied connection with your humanity and divine nature. With her grounded presence and therapeutic experience\, people feel safe to explore meditation and awakening\, knowing that whatever comes up is welcome and can be held. \nwww.marliescocheret.com \nSuggested donation: $10 to $30\nNo one turned away for lack of funds.\nPlease register early if you can. \nREGISTER \nThe event will be recorded and emailed to participants within a week.\nTo check your local time\, use a tool such as: Time Zone Converter
URL:https://opencirclecenter.org/event/marlies-myoku-dec-22-2023/
LOCATION:Online Video Meeting (phone access also available)
CATEGORIES:Online Event
ATTACH;FMTTYPE=image/jpeg:https://opencirclecenter.org/wp-content/uploads/2021/08/DSC_0156_edited_2-2.jpg
ORGANIZER;CN="Open%20Circle%20Center%20-%20Online%20Events":MAILTO:web@opencirclecenter.org
END:VEVENT
END:VCALENDAR