BEGIN:VCALENDAR
VERSION:2.0
PRODID:-//Open Circle Center - ECPv5.7.0//NONSGML v1.0//EN
CALSCALE:GREGORIAN
METHOD:PUBLISH
X-WR-CALNAME:Open Circle Center
X-ORIGINAL-URL:https://opencirclecenter.org
X-WR-CALDESC:Events for Open Circle Center
BEGIN:VTIMEZONE
TZID:America/Los_Angeles
BEGIN:DAYLIGHT
TZOFFSETFROM:-0800
TZOFFSETTO:-0700
TZNAME:PDT
DTSTART:20200308T100000
END:DAYLIGHT
BEGIN:STANDARD
TZOFFSETFROM:-0700
TZOFFSETTO:-0800
TZNAME:PST
DTSTART:20201101T090000
END:STANDARD
END:VTIMEZONE
BEGIN:VEVENT
DTSTART;TZID=America/Los_Angeles:20200301T093000
DTEND;TZID=America/Los_Angeles:20200301T233000
DTSTAMP:20260422T024744
CREATED:20200219T074615Z
LAST-MODIFIED:20200225T233637Z
UID:11286-1583055000-1583105400@opencirclecenter.org
SUMMARY:Marlies Myoku Cocheret ~ Shining as Silence
DESCRIPTION:9:30 am to 11:30 am (Pacific Time – San Francisco\, CA\, USA) Time Zone Converter \nWe are so lucky to know of this most precious place of Silence inside of us.  Do you visit frequently to connect\, taste\, steep in\, and be taken? When we rest as the bliss of Being\, we allow ourselves to shine as That. Naturally\, any form of mind will disarm and soften into Being. \nPlease know we cannot bring anything with us into this most precious place that we are. It’s like melting into the arms of the Great Mother. We can only open ourselves to be touched\, and taken more deeply into Her. She holds all of us. We are so helped and supported beyond what we can imagine. Be nourished by Her! \nCome and join us in abiding and deepening in and as the True Nature that we are\, and be completely nourished! \nMarlies Myoku has devoted her life to the Beloved. She brings a potent invitation into the deep Silence that we are. The kindness of her gentle and direct teaching guides us home like a lighthouse. She helps people to see that freedom and peace lie not in escaping from difficulties\, but rather in completely welcoming and receiving all that the Mystery presents. \nShe has been offering satsang and retreat since 2000 when Adyashanti asked her to teach. Marlies is trained as a psychologist in The Netherlands\, a Hakomi therapist\, and a Tantric educator.  For over 25 years she has been ushering seekers into living the Divine in the body. She has a passion and a gift for bringing together the Sensual Body and the Silence of our Being. \nShe lives in Santa Cruz; California\, but works internationally. Marlies is interviewed in the book Awakened Relating. A Guide To Embodying Undivided love in Intimate Relationships by Lynn Marie Lumiere\, and in the book Ordinary Women\, Extraordinary Wisdom by R.M. Robinson \n“With Adya\, the bottom fell out. I deeply knew I am not this body\, mind\, thought\, psyche\, and I am also all these things as well. There was no in and/or out. All is One.” \nwww.marliescocheret.com \nSuggested donation: $15 to $25\nPLEASE REGISTER EARLY if you can.\nReview in advance info for joining event. \nREGISTER \nNOTE: All event are shown in PACIFIC TIME\, as in San Francisco\, CA\, USA (more details on time conversion below) \n  \nTIME CONVERSION for your location (see link to Time Zone Converter near top of this page)\nAll event are shown in PACIFIC TIME\, as in San Francisco\, CA\, USA: \nMORE INFO ABOUT TIME ZONE CONVERSION… \nUTC (Coordinated Universal Time)\, same as GMT (Greenwich Mean Time)\, is the international basis for other time zones.\n10 am PDT (Pacific Daylight Time – San Francisco\, CA\, USA) is 5 pm UTC \n10 am PST (Pacific Standard Time – San Francisco\, CA\, USA) is 6 pm UTC \nPacific Daylight Time (PDT) March into November and Pacific Standard Time (PST) November into March\nCheck specific dates here: Clock Changes in United States
URL:https://opencirclecenter.org/event/marlies-mar-1-2020/
LOCATION:Online Video Meeting (phone access also available)
CATEGORIES:Online Event
ATTACH;FMTTYPE=image/jpeg:https://opencirclecenter.org/wp-content/uploads/2018/06/Marlies-2018...smiling-in-red....cropped...jpg
ORGANIZER;CN="Open%20Circle%20Center%20-%20Online%20Events":MAILTO:web@opencirclecenter.org
END:VEVENT
END:VCALENDAR