BEGIN:VCALENDAR
VERSION:2.0
PRODID:-//Open Circle Center - ECPv5.7.0//NONSGML v1.0//EN
CALSCALE:GREGORIAN
METHOD:PUBLISH
X-WR-CALNAME:Open Circle Center
X-ORIGINAL-URL:https://opencirclecenter.org
X-WR-CALDESC:Events for Open Circle Center
BEGIN:VTIMEZONE
TZID:America/Los_Angeles
BEGIN:DAYLIGHT
TZOFFSETFROM:-0800
TZOFFSETTO:-0700
TZNAME:PDT
DTSTART:20230312T100000
END:DAYLIGHT
BEGIN:STANDARD
TZOFFSETFROM:-0700
TZOFFSETTO:-0800
TZNAME:PST
DTSTART:20231105T090000
END:STANDARD
END:VTIMEZONE
BEGIN:VEVENT
DTSTART;TZID=America/Los_Angeles:20230409T180000
DTEND;TZID=America/Los_Angeles:20230409T194500
DTSTAMP:20260423T152559
CREATED:20230405T154419Z
LAST-MODIFIED:20230405T154419Z
UID:22590-1681063200-1681069500@opencirclecenter.org
SUMMARY:Manilai ~ Sound Bath ~ In-Person in Berkeley\, CA
DESCRIPTION:This event will be held in the large cozy Sanctuary space. \nJoin us in a space of connection\, honoring and healing.   \nWe will relax and re-harmonize to the sounds and vibrations of crystal singing bowls performed by Manilai.  Each singing bowl is attuned to one of the 7 main chakras and helps to clear and align the chakras.  You will be invited to completely relax during this one-hour full-bodied\, immersive experience that invites deep healing and restorative processes. \n“Sounds permeate our systems\, resonating with our essence\, so that inner dissonance seems almost immediately to be transformed into harmony.”- Dr. Mitchell Gaynor \nBring what you like for your comfort such as a foam or yoga mat\, pillows and blankets. \nWrite up about me:\nI went through a period of deep emotional release and healing.  Profound shifts happened in my experience of life when I moved from living from my head to my heart.  Now I connect to Heart’s Truth to guide my way\, letting go of the mind’s attachment to the illusions of control\, security and life story.  So much freed when I brought my attention to inner joy and loosened the seeking of happiness outside of myself.  I am grateful for this beautiful journey of heart opening and experiencing the unfolding of love all around and through me. \nMy joy of singing bowl sound baths started several years ago and I felt an immediate affinity for their beautiful vibration and sound.  Sound baths have been very healing and restorative for me and I love sharing this with others. \nSuggested donation: $15 to $25
URL:https://opencirclecenter.org/event/manilai-apr-9-2023-2/
LOCATION:Chochmat HaLev\, 2215 Prince St.\, Berkeley\, CA\, United States
CATEGORIES:Featured
ATTACH;FMTTYPE=image/jpeg:https://opencirclecenter.org/wp-content/uploads/2023/03/Manilai_2023_crop.jpg
GEO:37.8536815;-122.2634046
X-APPLE-STRUCTURED-LOCATION;VALUE=URI;X-ADDRESS=Chochmat HaLev 2215 Prince St. Berkeley CA United States;X-APPLE-RADIUS=500;X-TITLE=2215 Prince St.:geo:-122.2634046,37.8536815
END:VEVENT
END:VCALENDAR