BEGIN:VCALENDAR
VERSION:2.0
PRODID:-//Open Circle Center - ECPv5.7.0//NONSGML v1.0//EN
CALSCALE:GREGORIAN
METHOD:PUBLISH
X-WR-CALNAME:Open Circle Center
X-ORIGINAL-URL:https://opencirclecenter.org
X-WR-CALDESC:Events for Open Circle Center
BEGIN:VTIMEZONE
TZID:America/Los_Angeles
BEGIN:DAYLIGHT
TZOFFSETFROM:-0800
TZOFFSETTO:-0700
TZNAME:PDT
DTSTART:20190310T100000
END:DAYLIGHT
BEGIN:STANDARD
TZOFFSETFROM:-0700
TZOFFSETTO:-0800
TZNAME:PST
DTSTART:20191103T090000
END:STANDARD
END:VTIMEZONE
BEGIN:VEVENT
DTSTART;TZID=America/Los_Angeles:20190712T100000
DTEND;TZID=America/Los_Angeles:20190712T130000
DTSTAMP:20260421T143804
CREATED:20190602T092327Z
LAST-MODIFIED:20190701T164800Z
UID:9025-1562925600-1562936400@opencirclecenter.org
SUMMARY:Lynn Marie Lumiere ~ The Healing Power of Awareness ~ 3 Day Online Retreat
DESCRIPTION:Online Retreat with Lynn Marie Lumiere \nThe Healing Power of Awareness:\nTransforming our Relationship with our Self and Others\nJuly 12\, 13\, 14 (Friday\, Saturday and Sunday)\n10 am to 1:00 pm (Pacific Time – San Francisco\, CA\, USA)\nTime Zone Converter \nThis retreat will bring together nondual awakening and nondual psychology\, which can facilitate a true healing of our relationship with our self and others. Awakening to our deeper nature alone will not necessarily dissolve the self-hatred so many of us carry in our ego-identity as well as the relational wounding that is held in the body-mind and causes problems in our relationships. And\, the ego-identity is incapable of transforming this. It is when awareness meets our psychological wounding that it is freed to return to its original nature\, allowing its qualities to shine through our humanness in all our relating. \nWe will weave between awakening to our essential nature and bringing that to our psychological suffering for healing and transformation. The focus will be as follows: \n\nDay 1: Awakening Awareness: How to awaken awareness and stabilize as that. Discussion about how to releases the grip of ego conditioning.\nDay 2: Self-Love: How to bring awareness to our self-negativity and release it into true self-love.\nDay 3: Relationship to Others: Healing our relational wounding through self-inquiry and the practice of awakened relating.\n\nThis retreat will offer guided meditation\, dialogue and experiential exploration\, including psychological process and spiritual inquiry. \nIt would be helpful to read Lynn Marie’s book Awakened Relating as part of this retreat (not required). \nThis Retreat consists of: \n\nThree live and interactive 3-hour meetings with Lynn Marie in Zoom (a total of 9 hours)\nAudio and video recordings of all meetings\n\nLynn Marie is sharing her presence and clarity\, as well as wisdom derived from many years of experience as a nondual psychotherapist\, through offering teaching\, guided meditation and dialogue. Her work is dedicated to awakening consciousness and meeting life’s challenges as doorways to greater freedom and is informed by over 40 years of dedicated spiritual and psychological exploration as well as almost 30 years of both committed partnership and practicing psychotherapy. Lynn Marie is a contributing author of The Sacred Mirror: Nondual Wisdom and Psychotherapy\, and the author of Awakened Relating: A Guide to Embodying Undivided Love in Intimate Relationships. She lives in Grass Valley\, CA and offers people from all over the world online spiritual mentoring and nondual therapy. \nFor more information\, please see www.lynnmarielumiere.com \nWe meet via Zoom\, a platform allowing for live video conversations. This means you will have the opportunity to see/hear and be seen/heard by Lynn Marie and participants. You will also have the option to switch your camera off and remain invisible. \nTo proceed to Registration\, please affirm that you have read and agree to these terms: \nclick here to READ TERMS.\nI Accept Terms \nRegistration: $50 – $90\nPLEASE REGISTER EARLY if you can.\nFor questions please contact Sara at sara@opencirclecenter.org.
URL:https://opencirclecenter.org/event/lynn-marie-online-retreat-12-july-2019/
LOCATION:Online Video Meeting (phone access also available)
CATEGORIES:Online Event
ATTACH;FMTTYPE=image/jpeg:https://opencirclecenter.org/wp-content/uploads/2019/05/Lynn-Marie-Lumiere_2019.jpg
ORGANIZER;CN="Open%20Circle%20Center%20-%20Online%20Events":MAILTO:web@opencirclecenter.org
END:VEVENT
END:VCALENDAR