BEGIN:VCALENDAR
VERSION:2.0
PRODID:-//Open Circle Center - ECPv5.7.0//NONSGML v1.0//EN
CALSCALE:GREGORIAN
METHOD:PUBLISH
X-WR-CALNAME:Open Circle Center
X-ORIGINAL-URL:https://opencirclecenter.org
X-WR-CALDESC:Events for Open Circle Center
BEGIN:VTIMEZONE
TZID:America/Los_Angeles
BEGIN:DAYLIGHT
TZOFFSETFROM:-0800
TZOFFSETTO:-0700
TZNAME:PDT
DTSTART:20230312T100000
END:DAYLIGHT
BEGIN:STANDARD
TZOFFSETFROM:-0700
TZOFFSETTO:-0800
TZNAME:PST
DTSTART:20231105T090000
END:STANDARD
END:VTIMEZONE
BEGIN:VEVENT
DTSTART;TZID=America/Los_Angeles:20230318T090000
DTEND;TZID=America/Los_Angeles:20230318T120000
DTSTAMP:20260424T032656
CREATED:20230307T221356Z
LAST-MODIFIED:20230311T201207Z
UID:22297-1679130000-1679140800@opencirclecenter.org
SUMMARY:Lynn Marie Lumiere\, MFT ~ EMBODIED AWAKENING: Healing Your Body-Mind
DESCRIPTION:Dear Europeans\, please note that due to the clocks changing in the US on Sun\, March 12\, but not yet in Europe\, the time difference is 1 hour less than usual. Therefore this event starts at 9am PT / 12pm ET / 4pm UK / 5pm CET. \nThis event will explore how we heal our body-mind through the experience of embodied awakening. When we bring awake awareness to our physical\, emotional\, and mental issues\, and allow them to rest in that presence\, a healing takes place in a way that is not possible otherwise. \nA direct experience of this will be facilitated through guided meditation and shared presence. Lynn Marie will also offer her therapeutic experience and skills as needed. \nIt is best to attend this event live in order to benefit more personally. However\, you are welcome to register and attend through the recording. \nLynn Marie Lumiere\, MFT is a nondual psychotherapist\, Somatic Experiencing Practitioner and author. She offers knowledge and wisdom gained from over 30 years of experience both as a therapist and with nondual spiritual teachings. She is the author of Awakened Relating:\nA Guide to Embodying Undivided Love in Intimate Relationships and The Awakening West: Evidence of a Spreading Enlightenment. \nwww.lynnmarielumiere.com \nSliding Scale: $25 to $45\nSome Partial Scholarships Available\nPlease register early if you can. \nREGISTER \nThe event will be recorded and emailed to participants within a week.\nTo check your local time\, use a tool such as: Time Zone Converter
URL:https://opencirclecenter.org/event/lynn-marie-mar-18-2023/
LOCATION:Online Video Meeting (phone access also available)
CATEGORIES:Online Event
ATTACH;FMTTYPE=image/jpeg:https://opencirclecenter.org/wp-content/uploads/2020/10/Lynn-Marie-Lumiere_2020-11_crop-2-scaled.jpg
ORGANIZER;CN="Open%20Circle%20Center%20-%20Online%20Events":MAILTO:web@opencirclecenter.org
END:VEVENT
END:VCALENDAR