BEGIN:VCALENDAR
VERSION:2.0
PRODID:-//Open Circle Center - ECPv5.7.0//NONSGML v1.0//EN
CALSCALE:GREGORIAN
METHOD:PUBLISH
X-WR-CALNAME:Open Circle Center
X-ORIGINAL-URL:https://opencirclecenter.org
X-WR-CALDESC:Events for Open Circle Center
BEGIN:VTIMEZONE
TZID:America/Los_Angeles
BEGIN:DAYLIGHT
TZOFFSETFROM:-0800
TZOFFSETTO:-0700
TZNAME:PDT
DTSTART:20230312T100000
END:DAYLIGHT
BEGIN:STANDARD
TZOFFSETFROM:-0700
TZOFFSETTO:-0800
TZNAME:PST
DTSTART:20231105T090000
END:STANDARD
END:VTIMEZONE
BEGIN:VEVENT
DTSTART;TZID=America/Los_Angeles:20231202T090000
DTEND;TZID=America/Los_Angeles:20231202T120000
DTSTAMP:20260421T061310
CREATED:20231115T200829Z
LAST-MODIFIED:20231202T044009Z
UID:25196-1701507600-1701518400@opencirclecenter.org
SUMMARY:CANCELLED - Lynn Marie Lumiere\, MFT ~ Being Present with What Is: Deepen Your Ability to be Still in the Midst of Challenges ~ 2-part Retreat
DESCRIPTION:We regret that due to unforeseen\ncircumstances we had to cancel this event. \nThe holiday season can bring more challenges such as being with family or being with an absence of family. In being with these\, and all challenges\, the key to peace and healing is to STOP\, be still\, and feel our discomfort without avoiding or engaging it. This is what releases and transforms our pain and fixed identifications. It also allows us to listen to the silent voice of wisdom within. We can discover that\, no matter what is arising\, it is not wrong. It is just what is\, and inner support and guidance is always available.  \nThe intention of this retreat is to help you deepen in your ability to be present with what is and to free up the fixations which block that. Lynn Marie will offer assistance with the somatic\, emotional and psychological issues that are interfering with your capacity to be present. We all have the capacity to do this because our deeper nature is already and always present with all our experience\, no matter how big the challenge!  \nYou are encouraged to attend the 3-hour sessions for this retreat live so you can benefit from sharing your experience and processing with Lynn Marie. However\, you are also welcome to attend at your convenience by listening to the recording.  \nLynn Marie Lumiere\, MFT is a seasoned psychotherapist\, Somatic Experiencing Practitioner\, spiritual mentor\, and author. She offers a rare blend of embodied spiritual wisdom with a skilled therapeutic approach that facilitates healing of psychological trauma/wounding and the embodiment of awakening. Her depth of experience\, rooted in her own healing and awakening journey\, spans decades of expertly guiding individuals in the resolution of their trauma and into connection with their true nature. She is the author of Awakened Relating: A Guide to Embodying Undivided Love in Relationships. \nFor more information see: www.lynnmarielumiere.com
URL:https://opencirclecenter.org/event/lynn-marie-lumiere-retreat-dec-2023-4/
LOCATION:Online Video Meeting (phone access also available)
CATEGORIES:Online Event
ATTACH;FMTTYPE=image/jpeg:https://opencirclecenter.org/wp-content/uploads/2023/09/Lynn-Marie-Lumiere_2023-09-23-scaled.jpg
ORGANIZER;CN="Open%20Circle%20Online%20Retreats":MAILTO:web@opencirclecenter.org
END:VEVENT
END:VCALENDAR