BEGIN:VCALENDAR
VERSION:2.0
PRODID:-//Open Circle Center - ECPv5.7.0//NONSGML v1.0//EN
CALSCALE:GREGORIAN
METHOD:PUBLISH
X-WR-CALNAME:Open Circle Center
X-ORIGINAL-URL:https://opencirclecenter.org
X-WR-CALDESC:Events for Open Circle Center
BEGIN:VTIMEZONE
TZID:America/Los_Angeles
BEGIN:DAYLIGHT
TZOFFSETFROM:-0800
TZOFFSETTO:-0700
TZNAME:PDT
DTSTART:20230312T100000
END:DAYLIGHT
BEGIN:STANDARD
TZOFFSETFROM:-0700
TZOFFSETTO:-0800
TZNAME:PST
DTSTART:20231105T090000
END:STANDARD
END:VTIMEZONE
BEGIN:VEVENT
DTSTART;TZID=America/Los_Angeles:20230812T090000
DTEND;TZID=America/Los_Angeles:20230812T120000
DTSTAMP:20260425T210459
CREATED:20230705T224122Z
LAST-MODIFIED:20230801T203322Z
UID:23421-1691830800-1691841600@opencirclecenter.org
SUMMARY:Lynn Marie Lumiere\, MFT ~ EMBRACE ALL OF WHO YOU ARE: Healing Core Shame ~ Weekend Retreat
DESCRIPTION:A 2-Part Weekend Retreat\nAugust 12 & 13\, 2023\n9:00 am – 12:00 pm Pacific Time\, each day\nTime Zone Converter\nRecording will be emailed to participants after each meeting.\nYou’re welcome to join even if you can’t attend all the live sessions. \nIf you ever experience yourself as not good enough\, bad\, unlovable\, unworthy\, or powerless\, you are experiencing core shame. You are not alone. Shame is in all of us to some degree. \nIt is a case of mistaken identity when we identify with a conditioned part of ourselves rather than with the Wholeness of who we are in both our humanness and Source Nature. This\, along with negative conditioning\, creates core shame\, which is a significant obstacle to health\, happiness\, healthy relationships\, and success. It affects every aspect of our life. \nTo truly heal core shame\, we need to remember who we really are—a vast being of pure love. Then it is possible\, along with therapeutic assistance and support\, to meet and resolve the negative programming and wounding that creates a negative sense of self. As these false identities fall away\, we embody more self-love. \nThis weekend event will offer a deep immersion into this issue so that you can begin to understand and directly experience being free of core shame. Lynn Marie brings extensive experience\, both personally and professionally\, with both spiritual awakening and healing our body-mind. She will offer insight and skills on freeing yourself from shame on all levels—somatically\, mentally and spiritually. \nWatch Lynn Marie’s Invitation: \n\n  \nParticipant feedback: “With Lynn Marie\, I get in an embodied way that my human experience is workable. I greatly appreciate her unique way of including and working with the human nervous system\, conditioning and relationship as the very path of ever-evolving spiritual awakening. For me\, she is naturally and powerfully transmitting a unique energy that is lovingly embracing simultaneously the finite and the Infinite\, the human and the Divine.” – H.C. \n  \nHonoring the courage in you! Watch to find out more: \n\n  \nLynn Marie Lumiere is a seasoned psychotherapist\, Somatic Experiencing Practitioner\, and author. She offers a rare blend of embodied spiritual wisdom with a skilled therapeutic approach that facilitates healing of psychological trauma/wounding and the embodiment of awakening. Her depth of experience\, rooted in her own healing and awakening journey\, spans decades of expertly guiding individuals in the resolution of their trauma and into connection with their true nature. She is a trustworthy and competent guide for both healing and freedom on all levels\, with a natural empathy for the human struggle that is born of her own life process. She is also the author of Awakened Relating: A Guide to Embodying Undivided Love in Intimate Relationships. \nFor more information see: www.lynnmarielumiere.com \nSliding Scale: $60 to $90\nSome Partial Scholarships Available\nPlease Register Early if you can. \nREGISTER
URL:https://opencirclecenter.org/event/lynn-marie-lumiere-retreat-aug-2023/
LOCATION:Online Video Meeting (phone access also available)
CATEGORIES:Online Event
ATTACH;FMTTYPE=image/jpeg:https://opencirclecenter.org/wp-content/uploads/2020/10/Lynn-Marie-Lumiere_2020-11_crop-2-scaled.jpg
ORGANIZER;CN="Open%20Circle%20Online%20Retreats":MAILTO:web@opencirclecenter.org
END:VEVENT
END:VCALENDAR