BEGIN:VCALENDAR
VERSION:2.0
PRODID:-//Open Circle Center - ECPv5.7.0//NONSGML v1.0//EN
CALSCALE:GREGORIAN
METHOD:PUBLISH
X-WR-CALNAME:Open Circle Center
X-ORIGINAL-URL:https://opencirclecenter.org
X-WR-CALDESC:Events for Open Circle Center
BEGIN:VTIMEZONE
TZID:America/Los_Angeles
BEGIN:DAYLIGHT
TZOFFSETFROM:-0800
TZOFFSETTO:-0700
TZNAME:PDT
DTSTART:20240310T100000
END:DAYLIGHT
BEGIN:STANDARD
TZOFFSETFROM:-0700
TZOFFSETTO:-0800
TZNAME:PST
DTSTART:20241103T090000
END:STANDARD
END:VTIMEZONE
BEGIN:VEVENT
DTSTART;TZID=America/Los_Angeles:20240106T090000
DTEND;TZID=America/Los_Angeles:20240106T140000
DTSTAMP:20260421T043656
CREATED:20231227T211840Z
LAST-MODIFIED:20231227T214517Z
UID:25663-1704531600-1704549600@opencirclecenter.org
SUMMARY:Lynn Marie Lumiere\, MFT ~ POWER UP for the New Year With Empowered Embodiment
DESCRIPTION:The power to heal and awaken is within all of us — and you can unlock it! \nNow is the time. It’s time to wake up to who you truly are—not a diminished\, distorted version of yourself. It’s time to let the gift of your unique expression flow freely and empower your world. As human beings\, this is our deepest happiness and fulfillment. And it is available to you\, right now!\nThis daylong will focus on empowering you to connect with the infinite powerhouse within so you can more deeply embody that through all your humanness on somatic\, emotional\, psychological\, and relational levels. This is what I call Empowered Embodiment. \nTapping into your own innate power will power you up to meet all of life’s challenges in your personal life as well as the many challenges we are facing in the world today. The daylong will be a place to discuss these challenges and how to meet them in a more empowered and embodied way. \nYou are encouraged to attend each session of this retreat live so you can benefit from group sharing and processing with Lynn Marie. However\, you are also welcome to attend at your convenience by listening to the recording. \nLynn Marie Lumiere is a seasoned psychotherapist\, Somatic Experiencing Practitioner\, spiritual mentor\, and author. She offers a rare blend of embodied spiritual wisdom with a skilled therapeutic approach that facilitates healing of psychological trauma/wounding and the embodiment of awakening. Her depth of experience\, rooted in her own healing and awakening journey\, spans decades of expertly guiding individuals in the resolution of their trauma and into connection with their true nature. She is the author of Awakened Relating: A Guide to Embodying More Love in Relationships. \nwww.lynnmarielumiere.com \nSliding Scale: $40 to $70\nSome Partial Scholarships Available\nPlease Register Early if you can. \nREGISTER \nThe event will be recorded and emailed to participants within a week.\nTo check your local time\, use a tool such as: Time Zone Converter
URL:https://opencirclecenter.org/event/lynn-marie-jan-6-2024-2/
LOCATION:Online Video Meeting (phone access also available)
CATEGORIES:Featured
ATTACH;FMTTYPE=image/jpeg:https://opencirclecenter.org/wp-content/uploads/2023/09/Lynn-Marie-Lumiere_2023-09-23-scaled.jpg
ORGANIZER;CN="Open%20Circle%20Center%20-%20Online%20Events":MAILTO:web@opencirclecenter.org
END:VEVENT
END:VCALENDAR