BEGIN:VCALENDAR
VERSION:2.0
PRODID:-//Open Circle Center - ECPv5.7.0//NONSGML v1.0//EN
CALSCALE:GREGORIAN
METHOD:PUBLISH
X-WR-CALNAME:Open Circle Center
X-ORIGINAL-URL:https://opencirclecenter.org
X-WR-CALDESC:Events for Open Circle Center
BEGIN:VTIMEZONE
TZID:America/Los_Angeles
BEGIN:DAYLIGHT
TZOFFSETFROM:-0800
TZOFFSETTO:-0700
TZNAME:PDT
DTSTART:20200308T100000
END:DAYLIGHT
BEGIN:STANDARD
TZOFFSETFROM:-0700
TZOFFSETTO:-0800
TZNAME:PST
DTSTART:20201101T090000
END:STANDARD
END:VTIMEZONE
BEGIN:VEVENT
DTSTART;TZID=America/Los_Angeles:20200822T090000
DTEND;TZID=America/Los_Angeles:20200822T120000
DTSTAMP:20260425T055658
CREATED:20200808T033123Z
LAST-MODIFIED:20200808T164759Z
UID:13539-1598086800-1598097600@opencirclecenter.org
SUMMARY:Lynn Marie Lumiere\, MFT ~  SOMATIC AWAKENING: Building Resilience
DESCRIPTION:In this webinar we will explore awakening in the body through somatic practices for balancing the nervous system and building more resilience and capacity for regulating stress and emotions. Being more regulated is very important for both healing our human wounding and our spiritual awakening. When our system is dis-regulated\, it reacts to life as though we are in danger and it doesn’t feel safe to let go and relax. This interferes with our ability to be present with our moment to moment experience and having greater access to the ever-present awareness.  \nIt is recommended to attend live\, but if you cannot\, you can still register and receive the recordings. The practices are designed for you to do repeatedly on your own\, or through listening to the recordings. \nLynn Marie Lumiere\, MFT is a nondual psychotherapist\, Somatic Experiencing Practitioner and author. She offers knowledge and wisdom gained from over 30 years of experience as a therapist as well as with nondual teachings. She is the author of Awakened Relating: A Guide to Embodying Undivided Love in Intimate Relationships and The Awakening West: Evidence of a Spreading Enlightenment. \nwww.lynnmarielumiere.com \nSuggested donation: $15 to $35\nNo one turned away for lack of funds.\nPlease register early if you can. \nREGISTER \nThe event will be recorded and emailed to participants within a week.\nTo check your local time\, use a tool such as: Time Zone Converter
URL:https://opencirclecenter.org/event/lynn-marie-group-aug-22-2020/
LOCATION:Online Video Meeting (phone access also available)
CATEGORIES:Online Event
ATTACH;FMTTYPE=image/jpeg:https://opencirclecenter.org/wp-content/uploads/2020/05/Lynn-Marie-Lumiere-2018....jpg
ORGANIZER;CN="Open%20Circle%20Center%20-%20Online%20Events":MAILTO:web@opencirclecenter.org
END:VEVENT
END:VCALENDAR