BEGIN:VCALENDAR
VERSION:2.0
PRODID:-//Open Circle Center - ECPv5.7.0//NONSGML v1.0//EN
CALSCALE:GREGORIAN
METHOD:PUBLISH
X-WR-CALNAME:Open Circle Center
X-ORIGINAL-URL:https://opencirclecenter.org
X-WR-CALDESC:Events for Open Circle Center
BEGIN:VTIMEZONE
TZID:America/Los_Angeles
BEGIN:DAYLIGHT
TZOFFSETFROM:-0800
TZOFFSETTO:-0700
TZNAME:PDT
DTSTART:20190310T100000
END:DAYLIGHT
BEGIN:STANDARD
TZOFFSETFROM:-0700
TZOFFSETTO:-0800
TZNAME:PST
DTSTART:20191103T090000
END:STANDARD
END:VTIMEZONE
BEGIN:VEVENT
DTSTART;TZID=America/Los_Angeles:20190804T100000
DTEND;TZID=America/Los_Angeles:20190804T120000
DTSTAMP:20260421T231158
CREATED:20190801T200337Z
LAST-MODIFIED:20190801T200337Z
UID:9300-1564912800-1564920000@opencirclecenter.org
SUMMARY:Lynn Marie Lumiere ~ Awareness: The Alchemical Solvent
DESCRIPTION:10 am to 12 noon (Pacific Time – San Francisco\, CA\, USA) Time Zone Converter \nAs we awaken to the ever-present awareness and bring that directly to our psychological\, emotional conditioning\, wounding\, and sense of separate identity\, it is transformed\, healed and dissolved. Awareness is the only solution that has the power to dissolve our sense of separate identity\, one thought\, feeling\, belief\, sensation and perception at a time. We cannot do this from the conditioned mind. Only from the vantage of awareness can we fully meet all of our human experience and see it for what it truly is—passing phenomena taken to be a self. This requires recognizing the presence of awareness and inquiring from/as that into our experience as it arises and then falls away back into its source. This webinar will include a talk\, guided meditative inquiry\, and dialogue. \nIn this webinar\, Lynn Marie will share her presence and clarity\, as well as wisdom derived from many years of experience as a nondual psychotherapist\, through teaching\, guided meditation and dialogue. Her work is dedicated to awakening consciousness and bringing that to our psychological and emotional issues in order to transform them and become free of identification with them. Lynn Marie is a contributing author of The Sacred Mirror: Nondual Wisdom and Psychotherapy\, and the author of Awakened Relating: A Guide to Embodying Undivided Love in Intimate Relationships. She lives in Grass Valley\, CA and offers online spiritual mentoring and nondual psychotherapy. For more information\, please see www.lynnmarielumiere.com \nSuggested donation: $15 to $25\nPLEASE REGISTER EARLY if you can. Review in advance info for joining event.\nNOTE: All event are shown in PACIFIC TIME\, as in San Francisco\, CA\, USA (more details on time conversion below) \nTo proceed to Registration\, please affirm that you have read and agree to these terms: \nclick here to READ TERMS.\nI Accept Terms \n  \nTIME CONVERSION for your location (see link to Time Zone Converter near top of this page)\nAll event are shown in PACIFIC TIME\, as in San Francisco\, CA\, USA: \n  \nMORE INFO ABOUT TIME ZONE CONVERSION\nPacific Daylight Time (PDT) March into November and Pacific Standard Time (PST) November into March\nCheck specific dates here: Clock Changes in United States \nUTC (Coordinated Universal Time)\, same as GMT (Greenwich Mean Time)\, is the international basis for other time zones.\n10 am PDT (Pacific Daylight Time – San Francisco\, CA\, USA) is 5 pm UTC \n10 am PST (Pacific Standard Time – San Francisco\, CA\, USA) is 6 pm UTC
URL:https://opencirclecenter.org/event/lynn-marie-aug-4-2019-2/
LOCATION:Online Video Meeting (phone access also available)
CATEGORIES:Featured
ATTACH;FMTTYPE=image/jpeg:https://opencirclecenter.org/wp-content/uploads/2019/05/Lynn-Marie-Lumiere_2019.jpg
ORGANIZER;CN="Open%20Circle%20Center%20-%20Online%20Events":MAILTO:web@opencirclecenter.org
END:VEVENT
END:VCALENDAR