BEGIN:VCALENDAR
VERSION:2.0
PRODID:-//Open Circle Center - ECPv5.7.0//NONSGML v1.0//EN
CALSCALE:GREGORIAN
METHOD:PUBLISH
X-WR-CALNAME:Open Circle Center
X-ORIGINAL-URL:https://opencirclecenter.org
X-WR-CALDESC:Events for Open Circle Center
BEGIN:VTIMEZONE
TZID:America/Los_Angeles
BEGIN:DAYLIGHT
TZOFFSETFROM:-0800
TZOFFSETTO:-0700
TZNAME:PDT
DTSTART:20230312T100000
END:DAYLIGHT
BEGIN:STANDARD
TZOFFSETFROM:-0700
TZOFFSETTO:-0800
TZNAME:PST
DTSTART:20231105T090000
END:STANDARD
END:VTIMEZONE
BEGIN:VEVENT
DTSTART;TZID=America/Los_Angeles:20230422T090000
DTEND;TZID=America/Los_Angeles:20230422T120000
DTSTAMP:20260424T011807
CREATED:20230402T222259Z
LAST-MODIFIED:20230402T222354Z
UID:22558-1682154000-1682164800@opencirclecenter.org
SUMMARY:Lynn Marie Lumiere\, MFT ~ FREEDOM FROM LOW-SELF-ESTEEM IS POSSIBLE
DESCRIPTION:Do you think negatively about yourself? Are you overly critical of yourself and lack confidence? \nMany people in our Western world have negative thoughts about themselves\, which may stem from unhappy childhoods\, and the effects of media\, school systems\, etc. When we identify with these thoughts\, believing them to be true\, they form an artificial self. Our artificial self is made up of many thoughts\, beliefs and programs that we have become identified with on all levels: physical\, emotional\, mental and spiritual. \nTo be fully free from low self-esteem\, we need to remember who we truly are. To do that\, we connect with our Natural Self\, which is not really a self\, it is a vast Being. It is our Nature—pure and untouched by programming or emotional trauma/wounding. \nThe more we come into our Natural Self\, the more we can disidentify with the artificial self. By doing this\, programming related to low self-esteem naturally resolves\, if we allow it to. Our Nature is the only power that can do that! \nThis 3-hour webinar will include guided meditation\, experiential process\, and dialogue. It is recommended that you attend in person to benefit from working with Lynn Marie directly. However\, you are welcome to register and attend by watching the recording. \nParticipant feedback: “I feel inspired when I am with Lynn Marie\, inspired by her presence and her own human/healing/spiritual journey. I feel naturally encouraged: I too can heal. I too can drop old false beliefs and grow into greater clarity of awareness\, greater ease in my experience of being\, and greater freedom.” \nLynn Marie Lumiere is a seasoned psychotherapist\, Somatic Experiencing Practitioner\, and author. She offers a rare blend of embodied spiritual wisdom with a skilled therapeutic approach that facilitates healing of psychological trauma/wounding and the embodiment of awakening. Her depth of experience\, rooted in her own healing and awakening journey\, spans decades of expertly guiding individuals in the resolution of their trauma and into connection with their true nature. She is a trustworthy and competent guide for both healing and freedom on all levels\, with a natural empathy for the human struggle that is born of her own life process. She is also the author of Awakened Relating: A Guide to Embodying Undivided Love in Intimate Relationships. \nwww.lynnmarielumiere.com \nSliding Scale: $25 to $45\nSome Partial Scholarships Available\nPlease register early if you can. \nREGISTER \nThe event will be recorded and emailed to participants within a week.\nTo check your local time\, use a tool such as: Time Zone Converter
URL:https://opencirclecenter.org/event/lynn-marie-apr-22-2023/
LOCATION:Online Video Meeting (phone access also available)
CATEGORIES:Online Event
ATTACH;FMTTYPE=image/jpeg:https://opencirclecenter.org/wp-content/uploads/2020/10/Lynn-Marie-Lumiere_2020-11_crop-2-scaled.jpg
ORGANIZER;CN="Open%20Circle%20Center%20-%20Online%20Events":MAILTO:web@opencirclecenter.org
END:VEVENT
END:VCALENDAR