BEGIN:VCALENDAR
VERSION:2.0
PRODID:-//Open Circle Center - ECPv5.7.0//NONSGML v1.0//EN
CALSCALE:GREGORIAN
METHOD:PUBLISH
X-WR-CALNAME:Open Circle Center
X-ORIGINAL-URL:https://opencirclecenter.org
X-WR-CALDESC:Events for Open Circle Center
BEGIN:VTIMEZONE
TZID:America/Los_Angeles
BEGIN:DAYLIGHT
TZOFFSETFROM:-0800
TZOFFSETTO:-0700
TZNAME:PDT
DTSTART:20230312T100000
END:DAYLIGHT
BEGIN:STANDARD
TZOFFSETFROM:-0700
TZOFFSETTO:-0800
TZNAME:PST
DTSTART:20231105T090000
END:STANDARD
END:VTIMEZONE
BEGIN:VEVENT
DTSTART;TZID=America/Los_Angeles:20230219T100000
DTEND;TZID=America/Los_Angeles:20230219T170000
DTSTAMP:20260423T160725
CREATED:20230130T161624Z
LAST-MODIFIED:20230130T161624Z
UID:21956-1676800800-1676826000@opencirclecenter.org
SUMMARY:John Prendergast ~ Simply Being Here ~ an In-Person Local Event
DESCRIPTION:What is the experience of simply being HERE – deeply grounded\, open hearted/minded\, and available for this timeless moment? How can we recognize the Sacred within the ordinary routines and familiar relationships of our daily life? How do we embody our deepest knowing? We begin by welcoming our experience just as it is and by questioning who we mis-take ourself to be. This takes integrity\, vulnerability\, and a love for the inconceivable truth of who we really are. Our retreat will include silent and guided meditations\, a talk\, experiential conversations\, and dyadic inquiry. \nJohn is a former adjunct professor of psychology at CIIS\, the author of numerous books on the intersection of nondual wisdom\, somatic experience and psychotherapy\, and a student of Jean Klein\, Byron Katie\, and Adyanshanti. He now teaches in the lineage of Adyashanti in a profoundly experiential manner.    \nSuggested Donation: $75\nNo one turned away for lack of funds. \nTo register:\nEmail Rob at robmschwartz@yahoo.com \nLocation:\nThe meeting will be held indoors in an almost-completed new private home in the Fairfax hills\, intended for eventual use for retreats\, with views of Mount Tam and hiking trails. \nAddress and directions will be provided upon registration. \nPlease bring your own lunch\, or feel free to go into town to one of the restaurants or to Good Earth Natural Foods.
URL:https://opencirclecenter.org/event/john-prendergast-feb-19-2023/
LOCATION:Berkeley\, CA
CATEGORIES:Marin
ATTACH;FMTTYPE=image/png:https://opencirclecenter.org/wp-content/uploads/2022/10/John-Prendergast-2022-Jan.-smiling-in-red...png
END:VEVENT
END:VCALENDAR