BEGIN:VCALENDAR
VERSION:2.0
PRODID:-//Open Circle Center - ECPv5.7.0//NONSGML v1.0//EN
CALSCALE:GREGORIAN
METHOD:PUBLISH
X-WR-CALNAME:Open Circle Center
X-ORIGINAL-URL:https://opencirclecenter.org
X-WR-CALDESC:Events for Open Circle Center
BEGIN:VTIMEZONE
TZID:America/Los_Angeles
BEGIN:DAYLIGHT
TZOFFSETFROM:-0800
TZOFFSETTO:-0700
TZNAME:PDT
DTSTART:20200308T100000
END:DAYLIGHT
BEGIN:STANDARD
TZOFFSETFROM:-0700
TZOFFSETTO:-0800
TZNAME:PST
DTSTART:20201101T090000
END:STANDARD
END:VTIMEZONE
BEGIN:VEVENT
DTSTART;TZID=America/Los_Angeles:20200315T100000
DTEND;TZID=America/Los_Angeles:20200315T120000
DTSTAMP:20260421T063134
CREATED:20200111T044303Z
LAST-MODIFIED:20200313T040405Z
UID:10940-1584266400-1584273600@opencirclecenter.org
SUMMARY:Jeannie Zandi ~ From Selfish to Selfless
DESCRIPTION:10 am to 12 noon (Pacific Time – San Francisco\, CA\, USA) Time Zone Converter \nThe journey of embodiment includes a transformation from the self-focused fixations of the child to the offering of the full\, mature\, realized heart. Jeannie will lead an inquiry\, talk and exchange into the realms of selfishness and self-fulness\, exploring the gifts of awakening\, the practice of cultivation\, how we meet needs for healing and self nurture\, and the fruit of the spiritual path: offering one’s whole heart to the world.  \nJeannie’s gift for inviting people to join her in resting and rooted presence evokes a deep meeting with oneself and reality. Within that\, Jeannie’s humor and iconoclasm serve to bring people into an understanding that is beyond the intellectual.  Through silent and guided meditation\, spontaneous talks and exchange with participants\, Jeannie will host a space of clarity and warmth where the richness of relating can be explored safely and your innermost questions met fully. Come join us!  \nJeannie is the director of Living as Love\, a nonprofit organization dedicated to seeding a culture of the Heart on the planet\, inspiring\, teaching and supporting people to live from their essence as Love. A year before the birth of her daughter\, Jeannie was plunged into a dark night of the soul that culminated in a radical shift of consciousness. She is known for her fearless clarity\, tender mercy toward humanness\, and a juicy\, poetic and often humorous style that draws from Advaita Vedanta\, Sufism\, Christian mysticism and the ongoing revelation of fully engaged living. Residing in Colorado\, she travels widely in the US\, bringing a down-to-earth embodied teaching of living as love. \nwww.jeanniezandi.com \nSuggested donation: $15 to $25\nPLEASE REGISTER EARLY if you can. Review in advance info for joining event.\nTo proceed to Registration\, please affirm that you have read and agree to these terms: \nclick here to READ TERMS.\nI Accept Terms \nNOTE: All events are shown in PACIFIC TIME\, as in San Francisco\, CA\, USA (more details on time conversion below) \n  \nTIME CONVERSION for your location (see link to Time Zone Converter near top of this page): \nMORE INFO ABOUT TIME ZONE CONVERSION… \nUTC (Coordinated Universal Time)\, same as GMT (Greenwich Mean Time)\, is the international basis for other time zones.\n10 am PDT (Pacific Daylight Time – San Francisco\, CA\, USA) is 5 pm UTC \n10 am PST (Pacific Standard Time – San Francisco\, CA\, USA) is 6 pm UTC \nPacific Daylight Time (PDT) March into November and Pacific Standard Time (PST) November into March\nCheck specific dates here: Clock Changes in United States
URL:https://opencirclecenter.org/event/jeannie-zandi-mar-15-2020/
LOCATION:Online Video Meeting (phone access also available)
CATEGORIES:Online Event
ATTACH;FMTTYPE=image/jpeg:https://opencirclecenter.org/wp-content/uploads/2018/09/Jeannie-Zandi_2018-10_NEW.jpg
ORGANIZER;CN="Open%20Circle%20Center%20-%20Online%20Events":MAILTO:web@opencirclecenter.org
END:VEVENT
END:VCALENDAR