BEGIN:VCALENDAR
VERSION:2.0
PRODID:-//Open Circle Center - ECPv5.7.0//NONSGML v1.0//EN
CALSCALE:GREGORIAN
METHOD:PUBLISH
X-WR-CALNAME:Open Circle Center
X-ORIGINAL-URL:https://opencirclecenter.org
X-WR-CALDESC:Events for Open Circle Center
BEGIN:VTIMEZONE
TZID:America/Los_Angeles
BEGIN:DAYLIGHT
TZOFFSETFROM:-0800
TZOFFSETTO:-0700
TZNAME:PDT
DTSTART:20210314T100000
END:DAYLIGHT
BEGIN:STANDARD
TZOFFSETFROM:-0700
TZOFFSETTO:-0800
TZNAME:PST
DTSTART:20211107T090000
END:STANDARD
END:VTIMEZONE
BEGIN:VEVENT
DTSTART;TZID=America/Los_Angeles:20210313T100000
DTEND;TZID=America/Los_Angeles:20210313T120000
DTSTAMP:20260419T154703
CREATED:20210127T045348Z
LAST-MODIFIED:20210127T045348Z
UID:15361-1615629600-1615636800@opencirclecenter.org
SUMMARY:Jeannie Zandi ~ Good\, Bad\, Is
DESCRIPTION:Conditioned separation has us living from a limited either-or perspective and chains us to a cycle of trying to be “good” and avoiding being “bad.” The way out is abiding in things-as-they-are. Join Jeannie and friends to meet in “the field outside of rightdoing and wrongdoing” (Rumi). \nJeannie’s gift for inviting people to join her in resting and rooted presence evokes a deep meeting with oneself and reality. Within that\, Jeannie’s humor and iconoclasm serve to bring people into an understanding that is beyond the intellectual.  Through silent and guided meditation\, spontaneous talks and exchange with participants\, Jeannie will host a space of clarity and warmth where the richness of relating can be explored safely and your innermost questions met fully. Come join us!  \nJeannie is the director of Living as Love\, a nonprofit organization dedicated to seeding a culture of the Heart on the planet\, inspiring\, teaching and supporting people to live from their essence as Love. A year before the birth of her daughter\, Jeannie was plunged into a dark night of the soul that culminated in a radical shift of consciousness. She is known for her fearless clarity\, tender mercy toward humanness\, and a juicy\, poetic and often humorous style that draws from Advaita Vedanta\, Sufism\, Christian mysticism and the ongoing revelation of fully engaged living. Residing in Colorado\, she travels widely in the US\, bringing a down-to-earth embodied teaching of living as love. \nwww.jeanniezandi.com \nSuggested donation: $15 to $25\nNo one turned away for lack of funds.\nPlease register early if you can. \nREGISTER \nThe event will be recorded and emailed to participants within a week.\nTo check your local time\, use a tool such as: Time Zone Converter
URL:https://opencirclecenter.org/event/jeannie-zandi-mar-13-2021/
LOCATION:Online Video Meeting (phone access also available)
CATEGORIES:Online Event
ATTACH;FMTTYPE=image/jpeg:https://opencirclecenter.org/wp-content/uploads/2018/09/Jeannie-Zandi_2018-10_NEW.jpg
ORGANIZER;CN="Open%20Circle%20Center%20-%20Online%20Events":MAILTO:web@opencirclecenter.org
END:VEVENT
END:VCALENDAR