BEGIN:VCALENDAR
VERSION:2.0
PRODID:-//Open Circle Center - ECPv5.7.0//NONSGML v1.0//EN
CALSCALE:GREGORIAN
METHOD:PUBLISH
X-WR-CALNAME:Open Circle Center
X-ORIGINAL-URL:https://opencirclecenter.org
X-WR-CALDESC:Events for Open Circle Center
BEGIN:VTIMEZONE
TZID:America/Los_Angeles
BEGIN:DAYLIGHT
TZOFFSETFROM:-0800
TZOFFSETTO:-0700
TZNAME:PDT
DTSTART:20200308T100000
END:DAYLIGHT
BEGIN:STANDARD
TZOFFSETFROM:-0700
TZOFFSETTO:-0800
TZNAME:PST
DTSTART:20201101T090000
END:STANDARD
END:VTIMEZONE
BEGIN:VEVENT
DTSTART;TZID=America/Los_Angeles:20200313T190000
DTEND;TZID=America/Los_Angeles:20200313T210000
DTSTAMP:20260421T080723
CREATED:20200309T211811Z
LAST-MODIFIED:20200312T203652Z
UID:11503-1584126000-1584133200@opencirclecenter.org
SUMMARY:Jeannie Zandi ~ Embodying the Divine
DESCRIPTION:Due to concerns over the corona virus\, we would kindly request that if you have a cough\, cold or are otherwise under the weather\, that you please stay home\, out of respect for the comfort of the other attendees and the health of the broader community. Otherwise\, we would love to see you! Thank you for your understanding. \nWe will be resting in the field of being\, maintaining sovereignty in the midst of the pulls of conditioning\, living from the beauty and clarity of being\, expressing essence in the world\, the ins and outs of relating\, the healthy flow of yin and yang\, and basically everything that relates to the full embodiment of our essential nature. \nJeannie’s gift for inviting people to join her in resting and rooted presence evokes a deep meeting with oneself and reality. Within that\, Jeannie’s humor and iconoclasm serve to bring people into an understanding that is beyond the intellectual.  Through silent and guided meditation\, spontaneous talks and exchange with participants\, Jeannie will host a space of clarity and warmth where the richness of relating can be explored safely and your innermost questions met fully. Come join us!  \nJeannie is the director of Living as Love\, a nonprofit organization dedicated to seeding a culture of the Heart on the planet\, inspiring\, teaching and supporting people to live from their essence as Love. A year before the birth of her daughter\, Jeannie was plunged into a dark night of the soul that culminated in a radical shift of consciousness. She is known for her fearless clarity\, tender mercy toward humanness\, and a juicy\, poetic and often humorous style that draws from Advaita Vedanta\, Sufism\, Christian mysticism and the ongoing revelation of fully engaged living. Residing in Colorado\, she travels widely in the US\, bringing a down-to-earth embodied teaching of living as love. \nwww.jeanniezandi.com \nSuggested donation: $15 to $25
URL:https://opencirclecenter.org/event/jeannie-zandi-mar-13-2020-2/
LOCATION:Chochmat HaLev\, 2215 Prince St.\, Berkeley\, CA\, United States
ATTACH;FMTTYPE=image/jpeg:https://opencirclecenter.org/wp-content/uploads/2018/09/Jeannie-Zandi_2018-10_NEW.jpg
GEO:37.8536815;-122.2634046
X-APPLE-STRUCTURED-LOCATION;VALUE=URI;X-ADDRESS=Chochmat HaLev 2215 Prince St. Berkeley CA United States;X-APPLE-RADIUS=500;X-TITLE=2215 Prince St.:geo:-122.2634046,37.8536815
END:VEVENT
END:VCALENDAR