BEGIN:VCALENDAR
VERSION:2.0
PRODID:-//Open Circle Center - ECPv5.7.0//NONSGML v1.0//EN
CALSCALE:GREGORIAN
METHOD:PUBLISH
X-WR-CALNAME:Open Circle Center
X-ORIGINAL-URL:https://opencirclecenter.org
X-WR-CALDESC:Events for Open Circle Center
BEGIN:VTIMEZONE
TZID:America/Los_Angeles
BEGIN:DAYLIGHT
TZOFFSETFROM:-0800
TZOFFSETTO:-0700
TZNAME:PDT
DTSTART:20230312T100000
END:DAYLIGHT
BEGIN:STANDARD
TZOFFSETFROM:-0700
TZOFFSETTO:-0800
TZNAME:PST
DTSTART:20231105T090000
END:STANDARD
END:VTIMEZONE
BEGIN:VEVENT
DTSTART;TZID=America/Los_Angeles:20231207T190000
DTEND;TZID=America/Los_Angeles:20231207T210000
DTSTAMP:20260421T000250
CREATED:20231115T185539Z
LAST-MODIFIED:20231202T162059Z
UID:25183-1701975600-1701982800@opencirclecenter.org
SUMMARY:Jeannie Zandi ~ Everyday Mystic ~ In-Person Local Event
DESCRIPTION:Spiritual openings allow us to discover the peace and freedom of our true nature\, but it is how we take that discovery into the everyday that illuminates and transforms our lives. \nJeannie’s gift for inviting people to join her in resting and rooted presence evokes a deep meeting with oneself and reality. Within that\, Jeannie’s humor and iconoclasm serve to bring people into an understanding that is beyond the intellectual. Through silent and guided meditation\, spontaneous talks and exchange with participants\, Jeannie will host a space of clarity and warmth where the richness of relating can be explored safely and your innermost questions met fully. \nWatch Jeannie share on who is the Everyday Mystic: \n\nJeannie Zandi is the director of Living as Love\, a nonprofit organization dedicated to seeding a culture of the Heart on the planet\, inspiring\, teaching and supporting people to live from their essence as Love. A year before the birth of her daughter\, Jeannie was plunged into a dark night of the soul that culminated in a radical shift of consciousness. She is known for her fearless clarity\, tender mercy toward humanness\, and a juicy\, poetic and often humorous style that draws from Advaita Vedanta\, Sufism\, Christian mysticism and the ongoing revelation of fully engaged living. \nThe satsang includes a meditation\, comments by the speaker\, then Q&A and discussion. \nwww.jeanniezandi.com \nSuggested Donation:  $15- $25\, no one turned away.\nNo pre-registration. Pay at door when you arrive.\nIf you have symptoms of a viral infection\, or have had a recent\nCovid exposure or positive test\, please stay home out of consideration for others.
URL:https://opencirclecenter.org/event/jeannie-zandi-dec-7-2023/
LOCATION:Chochmat HaLev\, 2215 Prince St.\, Berkeley\, CA\, United States
CATEGORIES:East Bay
ATTACH;FMTTYPE=image/jpeg:https://opencirclecenter.org/wp-content/uploads/2019/12/Jeannie-Zandi-Oct.-2018...cropped...jpg
ORGANIZER;CN="Open%20Circle%20Center":MAILTO:web@opencirclecenter.org
GEO:37.8536815;-122.2634046
X-APPLE-STRUCTURED-LOCATION;VALUE=URI;X-ADDRESS=Chochmat HaLev 2215 Prince St. Berkeley CA United States;X-APPLE-RADIUS=500;X-TITLE=2215 Prince St.:geo:-122.2634046,37.8536815
END:VEVENT
END:VCALENDAR