BEGIN:VCALENDAR
VERSION:2.0
PRODID:-//Open Circle Center - ECPv5.7.0//NONSGML v1.0//EN
CALSCALE:GREGORIAN
METHOD:PUBLISH
X-WR-CALNAME:Open Circle Center
X-ORIGINAL-URL:https://opencirclecenter.org
X-WR-CALDESC:Events for Open Circle Center
BEGIN:VTIMEZONE
TZID:America/Los_Angeles
BEGIN:DAYLIGHT
TZOFFSETFROM:-0800
TZOFFSETTO:-0700
TZNAME:PDT
DTSTART:20230312T100000
END:DAYLIGHT
BEGIN:STANDARD
TZOFFSETFROM:-0700
TZOFFSETTO:-0800
TZNAME:PST
DTSTART:20231105T090000
END:STANDARD
END:VTIMEZONE
BEGIN:VEVENT
DTSTART;TZID=America/Los_Angeles:20231208T140000
DTEND;TZID=America/Los_Angeles:20231209T210000
DTSTAMP:20260420T204103
CREATED:20231109T002845Z
LAST-MODIFIED:20231206T225531Z
UID:25119-1702044000-1702155600@opencirclecenter.org
SUMMARY:Awakening Mercy Retreat with Jeannie Zandi (In-Person Local Event)
DESCRIPTION:Co-sponsored by Open Circle \nIs this event is for you? Watch Jeannie’s answer: \n\nJoin Jeannie and friends to explore practical tools for embodying love and clarity in a presence-filled\, humor-pervaded holy hall of now. \nAlong with opening to who we most truly are\, the spiritual path includes reckoning with this pesky humanness\, which can pull us out of living from presence right into conflict and suffering. Developing mercy for our human foibles as we open to all that we are allows us to walk our open hearts into the world with dignity and consistency. Join Jeannie and friends to explore practical tools for embodying love and clarity in a presence-filled\, humor-pervaded holy hall of now. \nWhat does “Awakening Mercy” mean? Watch Jeannie’s short sharing: \n\nDates\nOur retreat begins on Friday\, December 8th at 2 pm (PDT) and ends on Saturday\, December 9th at 9 pm (PDT).\nLocation: Sausalito\, CA \nClick here for details & REGISTRATION \nJeannie’s gift for inviting people to join her in resting and rooted presence evokes a deep meeting with oneself and reality. Within that\, Jeannie’s humor and iconoclasm serve to bring people into an understanding that is beyond the intellectual. Through silent and guided meditation\, spontaneous talks and exchange with participants\, Jeannie will host a space of clarity and warmth where the richness of relating can be explored safely and your innermost questions met fully. \nJeannie Zandi is the director of Living as Love\, a nonprofit organization dedicated to seeding a culture of the Heart on the planet\, inspiring\, teaching and supporting people to live from their essence as Love. A year before the birth of her daughter\, Jeannie was plunged into a dark night of the soul that culminated in a radical shift of consciousness. She is known for her fearless clarity\, tender mercy toward humanness\, and a juicy\, poetic and often humorous style that draws from Advaita Vedanta\, Sufism\, Christian mysticism and the ongoing revelation of fully engaged living. \nwww.jeanniezandi.com
URL:https://opencirclecenter.org/event/jeannie-retreat-dec-2023/
LOCATION:Sausalito\, CA\, United States
CATEGORIES:Marin
ATTACH;FMTTYPE=image/jpeg:https://opencirclecenter.org/wp-content/uploads/2019/12/Jeannie-Zandi-Oct.-2018...cropped...jpg
ORGANIZER;CN="Jeannie%20Zandi":MAILTO:assistant@jeanniezandi.com
END:VEVENT
END:VCALENDAR