BEGIN:VCALENDAR
VERSION:2.0
PRODID:-//Open Circle Center - ECPv5.7.0//NONSGML v1.0//EN
CALSCALE:GREGORIAN
METHOD:PUBLISH
X-WR-CALNAME:Open Circle Center
X-ORIGINAL-URL:https://opencirclecenter.org
X-WR-CALDESC:Events for Open Circle Center
BEGIN:VTIMEZONE
TZID:America/Los_Angeles
BEGIN:DAYLIGHT
TZOFFSETFROM:-0800
TZOFFSETTO:-0700
TZNAME:PDT
DTSTART:20190310T100000
END:DAYLIGHT
BEGIN:STANDARD
TZOFFSETFROM:-0700
TZOFFSETTO:-0800
TZNAME:PST
DTSTART:20191103T090000
END:STANDARD
END:VTIMEZONE
BEGIN:VEVENT
DTSTART;TZID=America/Los_Angeles:20190915T190000
DTEND;TZID=America/Los_Angeles:20190922T233000
DTSTAMP:20260422T020708
CREATED:20190626T030444Z
LAST-MODIFIED:20190629T034458Z
UID:9135-1568574000-1569195000@opencirclecenter.org
SUMMARY:Isaac Shapiro ~ Meetings in Truth
DESCRIPTION:Join us for this special series of evening meetings and daylong gatherings with Isaac Shapiro in Berkeley \nIsaac helps us inquire into how we live our lives moment by moment\, and how to better align ourselves with the deepest spiritual truths. He works through direct but good-humored questioning\, reflecting back to us\, and helping to unravel\, the conditioning of the mind and the nervous system\, allowing a deeper participation in the moment. \nIsaac is an internationally known facilitator and non-dual teacher\, fascinated with life lived in alignment with the world’s wisdom traditions. He enjoys exploring and assisting those who share this interest. A student of H.W.L. Poonja (Papaji)\, Isaac draws on a broad spectrum of understanding\, from neurophysiology to some of the latest discoveries in quantum physics\, which he applies in a light-hearted but direct way. \nHis approach is to ask questions and make statements\, and he asks participants in his meetings to question and see if what he says is true in their own being. This approach points to what is already known\, but obscured in the ways our nervous system and our thinking function. Through years of working with people\, Isaac has cultivated and refined an ability to track what is happening in the nervous system of participants. Bringing this awareness to people’s attention\, allows our natural\, innate self-regulating mechanism to be re-established. \nThe beauty of this invitation is that nothing needs to be changed\, fixed\, or eliminated. It is a non-dualistic\, non-judgmental enquiry into our present being. Everything happens through the agency of awareness. As we bring awareness to our unconscious habits\, there is a shift that occurs. In the course of investigation\, people spontaneously recognize the true nature of themselves\, which many report as the experience of peace\, unconditional love\, compassion\, or simply of being home. \n“All we have is the sensory experience of this moment\, NOW. This moment is only an experience to us. That’s all we have. The world\, time\, space\, our own bodies and each other are all an experience to us. Through noticing how our cells respond in the experience of now\, there is a noticing of the production of not only the sense of reality but also the sense of self that we believe we have.”  \nwww.isaacshapiro.org\n \nEvening Meetings \nWed. & Thur. Sept 11th & 12th\nand Sun.- Fri. Sept 15th to 20th  in Berkeley\n7:00 – 8:45 pm\nChochmat HaLev\, 2215 Prince Street\, Berkeley \nSuggested Donation for evenings: $15-$25\nNo one turned away for lack of funds. \nDaylong Intensives\nSat. and Sun.\, Sept 21st & 22nd\, in Berkeley\n11:00 am to 5:00 pm\nChochmat HaLev\, 2215 Prince Street\, Berkeley\nNo pre-registration required \nSliding Scale: $50 to $100 \nLunch Break:\nWelcome to bring your lunch\, and there are also various places near the Berkeley venue\, to go out to eat.\nNote: Per venue policy\, only vegetarian food is allowed on premises at Chochmat HaLev
URL:https://opencirclecenter.org/event/isaac-shapiro-meetings-truth-sept-2019-15-22/
LOCATION:Chochmat HaLev\, 2215 Prince St.\, Berkeley\, CA\, United States
ATTACH;FMTTYPE=image/jpeg:https://opencirclecenter.org/wp-content/uploads/2018/08/Isaac-Shapiro.....SAND-2017....jpg
GEO:37.8536815;-122.2634046
X-APPLE-STRUCTURED-LOCATION;VALUE=URI;X-ADDRESS=Chochmat HaLev 2215 Prince St. Berkeley CA United States;X-APPLE-RADIUS=500;X-TITLE=2215 Prince St.:geo:-122.2634046,37.8536815
END:VEVENT
END:VCALENDAR