BEGIN:VCALENDAR
VERSION:2.0
PRODID:-//Open Circle Center - ECPv5.7.0//NONSGML v1.0//EN
CALSCALE:GREGORIAN
METHOD:PUBLISH
X-WR-CALNAME:Open Circle Center
X-ORIGINAL-URL:https://opencirclecenter.org
X-WR-CALDESC:Events for Open Circle Center
BEGIN:VTIMEZONE
TZID:America/Los_Angeles
BEGIN:DAYLIGHT
TZOFFSETFROM:-0800
TZOFFSETTO:-0700
TZNAME:PDT
DTSTART:20200308T100000
END:DAYLIGHT
BEGIN:STANDARD
TZOFFSETFROM:-0700
TZOFFSETTO:-0800
TZNAME:PST
DTSTART:20201101T090000
END:STANDARD
END:VTIMEZONE
BEGIN:VEVENT
DTSTART;TZID=America/Los_Angeles:20200818T090000
DTEND;TZID=America/Los_Angeles:20200818T110000
DTSTAMP:20260425T041350
CREATED:20200807T173153Z
LAST-MODIFIED:20200807T173323Z
UID:13525-1597741200-1597748400@opencirclecenter.org
SUMMARY:Gail Brenner\, Ph.D.  ~ Bringing Heaven to Earth: Healing Trauma and Awakened Living - 6-Week Intensive Course
DESCRIPTION:6-week Intensive Course:\nTuesdays Aug. 18\, 25 & Sept. 1\, 8\, 15\, 22\n9:00 – 11:00 am\, Pacific Time\nEvent will be recorded and emailed to participants after each meeting.\nYou’re welcome to join even if you can’t attend all the live sessions. \nAre you still taken over by conditioned patterns—even after all the work you’ve already done?  Do you long to heal your sense of separation from yourself and from the sacredness of all of Life? \nWe hear about freedom as a possibility—or we’ve had a taste of our true nature—but somehow conditioned patterns keep getting played out in our minds\, our emotions\, our relationships\, and our choices in life. \nThe truth of who we are is so incredibly close. But when we’re clouded by inner judgments and fixed ideas about ourselves\, it seems like it’s a million miles away.\nWe’re hidden behind the veils of conditioning that seem so real. \nFinally\, we realize that we can’t go it alone. We need to practice together—in a supportive and loving community—to find our way home. And that’s what we create when we join together. You are welcome as you are—with your fears\, doubts\, shame\, and questions. \nThis course offers just the deep dive you need to open to a fresh way of being\, fully aligned with your natural essence as whole\, peaceful\, primed for joy\, and lacking nothing. You’ll learn to untangle the limited ways you think about yourself and find your way home to the ever present space of inner aliveness. \nWe’ll meet weekly for 6 weeks for guided meditation\, clarifying wisdom\, small group sharing\, and joyful celebration together. There will be plenty of time for Q&A with Gail. You’ll come away with the skills to feel grounded\, safe\, and connected within yourself and in your life. You’ll experience more space for intimacy\, generosity\, and simple joy. \nYou’ll receive exercises and reflections to enrich your experience between our meetings. \n“This course has changed my life. Gail is able to transform through her presence and I think anyone open to healing would benefit.” ~Erica C. \nWeek 1: Essential Practices \n\nAttunement\, loving witnessing\, and creating safety\nEveryday meditation\n\nWeek 2: The Experience of Trauma \n\nWhat is a conditioned identity?\nHow do we forget the truth of our being?\nCaring for the nervous system\n\nWeek 3: How Do You Resist? \n\nUnderstanding the ways you resist\nBringing compassion to all of your experience\nThe ongoing realization of our original essence\n\nWeek 4: Opening to Everything \n\nThoughts and attachment to thoughts\nHolding space for the most tender places within\nOpening to love\n\nWeeks 5 and 6: Awakening in Everyday Life \n\nBeing with each other in relationship; heart-based communication\nOld resentments/forgiveness\nNot taking things personally\nFlowing in daily life\n\n“Gail creates\, embodies and models a very safe space which is helping to create safety in myself on a day to day level which is Huge.” ~H.F. \n“It was pure delight (and relief) to find such a healing container in this sangha group. Gail’s masterful facilitation and unhurried attention to our experience of coming together\, shifting into direct experience\, and powerful questions were grounding and illuminating.” ~Lisa L. \n“I feel accepted\, included\, safe\, loved and also\, as importantly\, I feel that my presence in the group can offer the same qualities to others.” ~Sue E. \nGail Brenner\, Ph.D. is your guide. She is a psychologist\, author\, speaker\, and lover of truth with a fire that burns brightly. She is an expert in healing from early trauma and brings to this work years of experience with individuals and groups. She is known for creating the safe space needed for inner exploration. Gail is the author of the award-winning The End of Self-Help and Suffering Is Optional. \nQuestions? Please email Gail directly at gail@gailbrenner.com. \ngailbrenner.com \nSliding Scale: $105 to $180\nNo one turned away for lack of funds.\nPLEASE REGISTER EARLY if you can. \nREGISTER \nTime Zone Converter
URL:https://opencirclecenter.org/event/gail-brenner-course-aug-sep-2020-2/
LOCATION:Online Video Meeting (phone access also available)
CATEGORIES:Featured
ATTACH;FMTTYPE=image/jpeg:https://opencirclecenter.org/wp-content/uploads/2018/10/Gail-Brenner....jpg
ORGANIZER;CN="Open%20Circle%20Online%20Retreats":MAILTO:web@opencirclecenter.org
END:VEVENT
END:VCALENDAR