BEGIN:VCALENDAR
VERSION:2.0
PRODID:-//Open Circle Center - ECPv5.7.0//NONSGML v1.0//EN
CALSCALE:GREGORIAN
METHOD:PUBLISH
X-WR-CALNAME:Open Circle Center
X-ORIGINAL-URL:https://opencirclecenter.org
X-WR-CALDESC:Events for Open Circle Center
BEGIN:VTIMEZONE
TZID:America/Los_Angeles
BEGIN:DAYLIGHT
TZOFFSETFROM:-0800
TZOFFSETTO:-0700
TZNAME:PDT
DTSTART:20190310T100000
END:DAYLIGHT
BEGIN:STANDARD
TZOFFSETFROM:-0700
TZOFFSETTO:-0800
TZNAME:PST
DTSTART:20191103T090000
END:STANDARD
END:VTIMEZONE
BEGIN:VEVENT
DTSTART;TZID=America/Los_Angeles:20190827T190000
DTEND;TZID=America/Los_Angeles:20190827T234500
DTSTAMP:20260421T090842
CREATED:20190806T151305Z
LAST-MODIFIED:20190806T151305Z
UID:9306-1566932400-1566949500@opencirclecenter.org
SUMMARY:Gail Brenner ~ Suffering is Optional
DESCRIPTION:You’ve had a taste of your true nature as nondual awareness\, yet you still find yourself recycling conditioned thought patterns\, and getting stuck in the emotions that underlie them. You get triggered and feel scared\, sad\, angry\, or resentful. You’re sometimes overcome by behaviors that seem beyond your control. \nThis evening will be a safe and supportive intimate group gathering where we untangle the ways we feel separate and discover over and over the infinite peace of our true nature. Gail Brenner\, Ph.D. is an eternal student of happiness who blends her experience as a psychologist with a loving presence that invites people into harmony with all of life. She is gifted at meeting our humanness with nondual understanding in ways that are practical and loving. Gail has worked with clients and groups for over 20 years\, bringing laser-like clarity to the confusion of common problems\, such as reactive emotions\, compulsive behaviors\, feelings of personal inadequacy\, and relationship struggles. She is the author of three books\, including The End of Self-Help and her latest\, Suffering is Optional. \n“Here’s some very good news: freedom from unhappiness is possible\, and nothing needs to change. You don’t need to change your thoughts\, process your feelings\, learn to relax\, or become a better person. The invitation is simply to see things clearly. See clearly through to the essence of what makes you unhappy\, and you’ll realize that\, at the core of your being\, there’s no conflict\, resistance\, or separation. You now know peace deeper than you could ever imagine. Shine a laser on every experience that makes you suffer\, and you’ll always find your true nature\, pure being that just is.” \ngailbrenner.com \n\nSuggested Donation: $15-$25 per person
URL:https://opencirclecenter.org/event/gail-brenner-8-27-2019-3/
LOCATION:Falkirk Cultural Center\, San Rafael\, 1408 Mission Ave\, San Rafael\, CA\, United States
CATEGORIES:Marin
ATTACH;FMTTYPE=image/jpeg:https://opencirclecenter.org/wp-content/uploads/2018/10/Gail-Brenner....jpg
GEO:37.9756761;-122.5319912
X-APPLE-STRUCTURED-LOCATION;VALUE=URI;X-ADDRESS=Falkirk Cultural Center San Rafael 1408 Mission Ave San Rafael CA United States;X-APPLE-RADIUS=500;X-TITLE=1408 Mission Ave:geo:-122.5319912,37.9756761
END:VEVENT
END:VCALENDAR