BEGIN:VCALENDAR
VERSION:2.0
PRODID:-//Open Circle Center - ECPv5.7.0//NONSGML v1.0//EN
CALSCALE:GREGORIAN
METHOD:PUBLISH
X-WR-CALNAME:Open Circle Center
X-ORIGINAL-URL:https://opencirclecenter.org
X-WR-CALDESC:Events for Open Circle Center
BEGIN:VTIMEZONE
TZID:America/Los_Angeles
BEGIN:DAYLIGHT
TZOFFSETFROM:-0800
TZOFFSETTO:-0700
TZNAME:PDT
DTSTART:20240310T100000
END:DAYLIGHT
BEGIN:STANDARD
TZOFFSETFROM:-0700
TZOFFSETTO:-0800
TZNAME:PST
DTSTART:20241103T090000
END:STANDARD
END:VTIMEZONE
BEGIN:VEVENT
DTSTART;TZID=America/Los_Angeles:20240209T090000
DTEND;TZID=America/Los_Angeles:20240209T120000
DTSTAMP:20260421T224420
CREATED:20231227T213222Z
LAST-MODIFIED:20240209T204218Z
UID:25672-1707469200-1707480000@opencirclecenter.org
SUMMARY:Dorothy Hunt ~ Seeing from Love – Hiding from Love ~ 3-part Online Valentine’s Retreat
DESCRIPTION:3-part Online Valentine’s Retreat\nFeb. 9\, 10 & 11\, 2024\n9:00am – 12:00pm\, Pacific Time\, each day\nTime Zone Converter\nRecording will be emailed to participants after each meeting.\nYou’re welcome to join even if you can’t attend the live sessions. \nWithin each of us is the Source of an unconditional Loving. Are we open to receive such a gift? Is it possible to see ourselves or apparent “others” from this loving dimension of the Heart? Longing for love\, we often hide from it\, imagining we are not worthy\, or demanding that love must come in a particular size and shape. Many have experienced something “called” love that has felt controlling or like a conditional business arrangement—”I’ll love you if you become who I want you to be.” \nWhile love may have many faces\, in its deepest essence\, it has no opposite and requires no protection\, although it often evokes feelings of vulnerability in its human expressions. \nThis three-day online retreat with Dorothy Hunt will include guided meditations\, silence\, dharma talks\, and dialogue\, as we explore the experience of giving and receiving Love. We may even discover that our true Valentine lives within as both lover and beloved! \nDorothy Hunt currently serves as Spiritual Director of Moon Mountain Sangha\, teaching at the request and in the spiritual lineage of Adyashanti. The flavor of her teaching blends Advaita and Zen with a deep welcoming of the human expressions of the Mystery. Dorothy is the founder of the San Francisco Center for Meditation and Psychotherapy\, and practiced psychotherapy from 1967 until her retirement in 2020.  She is the author of Only This!\, Leaves from Moon Mountain\, and Ending the Search: From Spiritual Ambition to the Heart of Awareness. In addition\, she is a contributing author to two books on Nondual Wisdom and Psychotherapy\, and the editor of Love: A Fruit Always in Season. \nPresently\, Dorothy offers satsang and retreats via Zoom\, and dokusan by phone. For more information\, please visit www.dorothyhunt.org \nSliding Scale: $80 to $120\nSome Partial Scholarships Available\nPlease Register Early if you can. \nREGISTER
URL:https://opencirclecenter.org/event/dorothy-hunt-retreat-feb-2024-3/
LOCATION:Online Video Meeting (phone access also available)
CATEGORIES:Featured
ATTACH;FMTTYPE=image/jpeg:https://opencirclecenter.org/wp-content/uploads/2021/03/Dorothy-Hunt_2021.jpg
ORGANIZER;CN="Open%20Circle%20Online%20Retreats":MAILTO:web@opencirclecenter.org
END:VEVENT
END:VCALENDAR