BEGIN:VCALENDAR
VERSION:2.0
PRODID:-//Open Circle Center - ECPv5.7.0//NONSGML v1.0//EN
CALSCALE:GREGORIAN
METHOD:PUBLISH
X-WR-CALNAME:Open Circle Center
X-ORIGINAL-URL:https://opencirclecenter.org
X-WR-CALDESC:Events for Open Circle Center
BEGIN:VTIMEZONE
TZID:America/Los_Angeles
BEGIN:DAYLIGHT
TZOFFSETFROM:-0800
TZOFFSETTO:-0700
TZNAME:PDT
DTSTART:20230312T100000
END:DAYLIGHT
BEGIN:STANDARD
TZOFFSETFROM:-0700
TZOFFSETTO:-0800
TZNAME:PST
DTSTART:20231105T090000
END:STANDARD
END:VTIMEZONE
BEGIN:VEVENT
DTSTART;TZID=America/Los_Angeles:20231111T090000
DTEND;TZID=America/Los_Angeles:20231111T110000
DTSTAMP:20260421T165004
CREATED:20231022T211457Z
LAST-MODIFIED:20231022T230254Z
UID:24863-1699693200-1699700400@opencirclecenter.org
SUMMARY:Dave Oshana ~ Delicious Human Consciousness
DESCRIPTION:Since Existence is so fantastic\, alive and desirable\, I’m not sure why non-duality and other religious views are so often presented as dry and boring. Is it fear\, culture\, contraction\, fetishization\, objectification\, or just a dispassionate transcendence of desire\, drama and tendencies? Hmmm… \nWhatever! Speculation knows no end. \nAll I know is what I know\, which is that life after Enlightenment (Awakening/Liberation) is so much more tasty\, juicy – and\, well\, alive\, naturally. I also know\, and you are certainly in on the secret\, that humans thrive on contact. Truly deeply connecting – the kind of connection that only happens when the conditioned self (false identity/Ego) gets out of the way\, off the potty and turns off. \nSo\, this is an invitation to do what we humans do best (and long for) – to mix\, mash and merge. Oh\, don’t worry if you are shy\, the enlightened company present won’t be holding anyone’s feet over the flames\, scorching and roasting them into Enlightenment. You’ll be able to be just as you are\, and snooze by the campfire\, as the stars come down to co-mingle with our consciousness. \nThis is an experience to be had\, live and direct\, not read about after. You are welcome to join in. \nRead the warm and amazing feedback after Dave’s debut last month ‘Dave Oshana at Open Circle Center: Enlightenment Transmission\, Enlightenment & Healing’. \nAdvice:\nFor full receptivity and comfort\, it is recommended that you have space to lay down\, away from WiFi and phones\, hydrate well and abstain from addictive and mind-altering substances\, both before and after our meeting. \nNewcomers are invited to make an early connection with Dave Oshana and Enlightenment Transmission\, prepare in advance\, experience the energies and receive guidance and updates about the event – use email or contact-form. \nWatch Dave share about the nature of the Enlightenment Transmission: \n\n  \nAbout Dave Oshana:\nAfter 25 years of intense spiritual seeking\, I was surprised to find myself Enlightened at 5am on 19th June 2000. I share the profound transformation in the energetic fields we create together\, and call this phenomenon: Enlightenment Transmission. \nEnlightenment Transmission online resources\ninclude YouTube\, audio\, writings and online events.\nenlightenment-transmission.com \nSuggested donation: $15 to $40\nNo one turned away for lack of funds.\nPlease register early if you can. \nREGISTER \nThe event will be recorded and emailed to participants within a week.\nTo check your local time\, use a tool such as: Time Zone Converter
URL:https://opencirclecenter.org/event/dave-oshana-nov-11-2023/
LOCATION:Online Video Meeting (phone access also available)
CATEGORIES:Online Event
ATTACH;FMTTYPE=image/png:https://opencirclecenter.org/wp-content/uploads/2023/09/Dave-Oshana-3a_2023.png
ORGANIZER;CN="Open%20Circle%20Center%20-%20Online%20Events":MAILTO:web@opencirclecenter.org
END:VEVENT
END:VCALENDAR