BEGIN:VCALENDAR
VERSION:2.0
PRODID:-//Open Circle Center - ECPv5.7.0//NONSGML v1.0//EN
CALSCALE:GREGORIAN
METHOD:PUBLISH
X-WR-CALNAME:Open Circle Center
X-ORIGINAL-URL:https://opencirclecenter.org
X-WR-CALDESC:Events for Open Circle Center
BEGIN:VTIMEZONE
TZID:America/Los_Angeles
BEGIN:DAYLIGHT
TZOFFSETFROM:-0800
TZOFFSETTO:-0700
TZNAME:PDT
DTSTART:20240310T100000
END:DAYLIGHT
BEGIN:STANDARD
TZOFFSETFROM:-0700
TZOFFSETTO:-0800
TZNAME:PST
DTSTART:20241103T090000
END:STANDARD
END:VTIMEZONE
BEGIN:VEVENT
DTSTART;TZID=America/Los_Angeles:20240217T100000
DTEND;TZID=America/Los_Angeles:20240217T120000
DTSTAMP:20260422T042630
CREATED:20240206T194759Z
LAST-MODIFIED:20240206T194759Z
UID:26037-1708164000-1708171200@opencirclecenter.org
SUMMARY:Christiane Prendergast ~ Exploration in Stillness ~ In-Person Local Event
DESCRIPTION:With gentle movements\, we allow the body to be felt as it presents itself\, moment to moment. Whether there is constriction or heaviness\, we unconditionally welcome it through space-feeling\, sensing\, as well as with an occasional simple inquiry. With this approach\, we experience that there is nothing to do\, to change or to achieve. Open Presence allows these movements to free themselves and to be newly sensed at any moment. In this way\, we effortlessly become one with welcoming that is our home ground. \nWe start with a short meditation. At the end of the session there will be a time for sharing and questions.\nPlease bring a blanket or a mat. \nBio: Originally from France\, Christiane was a student of the late European Advaita master Jean Klein for over 20 years. Although rooted in Advaita\, Jean incorporated a form of subtle-body yoga from Kashmir Shaivism. It is this approach that he taught to Christiane. \nSuggested Donation:  $15- $25\, no one turned away.\nNo pre-registration. Pay at door when you arrive.\nIf you have symptoms of a viral infection\, or have had a recent\nCovid exposure or positive test\, please stay home out of consideration for others.
URL:https://opencirclecenter.org/event/christiane-prendergast-feb-17-2024/
LOCATION:Chochmat HaLev\, 2215 Prince St.\, Berkeley\, CA\, United States
CATEGORIES:East Bay
ATTACH;FMTTYPE=image/jpeg:https://opencirclecenter.org/wp-content/uploads/2024/02/Christiane-Prendergast_IMG_5174_2024-scaled.jpg
ORGANIZER;CN="Open%20Circle%20Center":MAILTO:web@opencirclecenter.org
GEO:37.8536815;-122.2634046
X-APPLE-STRUCTURED-LOCATION;VALUE=URI;X-ADDRESS=Chochmat HaLev 2215 Prince St. Berkeley CA United States;X-APPLE-RADIUS=500;X-TITLE=2215 Prince St.:geo:-122.2634046,37.8536815
END:VEVENT
END:VCALENDAR