BEGIN:VCALENDAR
VERSION:2.0
PRODID:-//Open Circle Center - ECPv5.7.0//NONSGML v1.0//EN
CALSCALE:GREGORIAN
METHOD:PUBLISH
X-WR-CALNAME:Open Circle Center
X-ORIGINAL-URL:https://opencirclecenter.org
X-WR-CALDESC:Events for Open Circle Center
BEGIN:VTIMEZONE
TZID:America/Los_Angeles
BEGIN:DAYLIGHT
TZOFFSETFROM:-0800
TZOFFSETTO:-0700
TZNAME:PDT
DTSTART:20230312T100000
END:DAYLIGHT
BEGIN:STANDARD
TZOFFSETFROM:-0700
TZOFFSETTO:-0800
TZNAME:PST
DTSTART:20231105T090000
END:STANDARD
END:VTIMEZONE
BEGIN:VEVENT
DTSTART;TZID=America/Los_Angeles:20230212T090000
DTEND;TZID=America/Los_Angeles:20230212T110000
DTSTAMP:20260423T143206
CREATED:20230106T210222Z
LAST-MODIFIED:20230106T210222Z
UID:21783-1676192400-1676199600@opencirclecenter.org
SUMMARY:Chesaray ~ Awakening to Ground
DESCRIPTION:Grounding is the most important foundation for blossoming on the spiritual path. Without grounding one can feel overwhelmed\, exhausted\, scattered and unable to enjoy the fruits of spiritual realization. In this class\, we will bring ground to the various awakenings and energetic openings that can happen on the path through guided meditation\, somatic inquiry\, and exchanges.  \nChesaray offers retreats\, courses\, and classes focused on grounding the magic of spiritual realization into daily life. Chesaray is a gifted healer that is filled with down-to-earth wisdom and loving presence. She invites us to slow down and turn towards our direct experience to discover what we are. For over 15 years she has studied and practiced ancient spiritual traditions\, somatic psychology\, conscious movement\, holistic health\, and bodywork. Because she faced tremendous difficulties that eventually opened her into the experience of Divine love\, she has a gift for meeting people where they’re at and supporting their awakening.  \nwww.chesaray.org \nSuggested donation: $15 to $25\nNo one turned away for lack of funds.\nPlease register early if you can. \nREGISTER \nThe event will be recorded and emailed to participants within a week.\nTo check your local time\, use a tool such as: Time Zone Converter
URL:https://opencirclecenter.org/event/chesaray-feb-12-2023/
LOCATION:Online Video Meeting (phone access also available)
CATEGORIES:Online Event
ATTACH;FMTTYPE=image/jpeg:https://opencirclecenter.org/wp-content/uploads/2022/03/Chesaray_2022-scaled.jpg
ORGANIZER;CN="Open%20Circle%20Center%20-%20Online%20Events":MAILTO:web@opencirclecenter.org
END:VEVENT
END:VCALENDAR