BEGIN:VCALENDAR
VERSION:2.0
PRODID:-//Open Circle Center - ECPv5.7.0//NONSGML v1.0//EN
CALSCALE:GREGORIAN
METHOD:PUBLISH
X-WR-CALNAME:Open Circle Center
X-ORIGINAL-URL:https://opencirclecenter.org
X-WR-CALDESC:Events for Open Circle Center
BEGIN:VTIMEZONE
TZID:America/Los_Angeles
BEGIN:DAYLIGHT
TZOFFSETFROM:-0800
TZOFFSETTO:-0700
TZNAME:PDT
DTSTART:20210314T100000
END:DAYLIGHT
BEGIN:STANDARD
TZOFFSETFROM:-0700
TZOFFSETTO:-0800
TZNAME:PST
DTSTART:20211107T090000
END:STANDARD
END:VTIMEZONE
BEGIN:VEVENT
DTSTART;TZID=America/Los_Angeles:20210131T100000
DTEND;TZID=America/Los_Angeles:20210131T120000
DTSTAMP:20260423T103654
CREATED:20210123T210540Z
LAST-MODIFIED:20210127T000320Z
UID:15293-1612087200-1612094400@opencirclecenter.org
SUMMARY:Bruce Pardoe ~ Heart Fluency® Non-Dual Awakening & Emotional Healing Workshop
DESCRIPTION:Pure awareness is the basic\, ordinary nature of our entire lives. It is accessible and obvious here and now. When we can plainly feel and recognize it in any moment\, we naturally come to consciously and continuously inhabit it with ease. Heart Fluency® founder Bruce Pardoe will lead this 2 hour experiential journey with group exercises and guided meditations to directly feel your awakened nature. With Heart Fluency’s three-step practice you will also learn to utilize an embodied inner balance that harnesses the ever-present\, unlimited capacities of awareness to allow emotional wounds\, traumas and afflictive patterns to transform into your deepest gifts. This workshop stands on its own but is also a wonderful precursor to the Non-Dual Contemplative Daylong Retreat on February 7th. \nFor more than 40 years Bruce Pardoe has been navigating and facilitating the path of inner healing and non-dual wisdom. Bruce’s journey healing his own complex trauma led him to develop the radically gentle Heart Fluency® method for engaging emotional wounds and afflictive patterns as portals to directly embodying non-dual well-being and happiness. Heart Fluency combines neuroscience and the unconditional nourishment of pure awareness in a highly accessible\, heart-centered approach. \nAfter spending over two years on silent retreat\, Bruce became a meditation teacher in the Vipassana tradition of Buddhism. He has completed Spirit Rock Meditation Center’s two-year Dharma Leader training\, and has studied extensively in Asia in the traditions of Tibetan Buddhism and Advaita. Bruce has also trained in Polyvagal Theory\, Feldenkrais Awareness through Movement and Hakomi’s body-centered psychotherapy. Since 2007 Bruce has shared Heart Fluency trainings and workshops with conscious individuals\, therapists and healers on four continents. \n“Bruce Pardoe has developed a very effective therapeutic and awakening process called Heart Fluency based in Buddhist and non-dual wisdom as well as body-mind healing modalities. I have experienced his work\, and I highly recommend him!”\n~ Lynn Marie Lumiere\, MFT \nwww.heartfluency.com \nSuggested donation: $15 to $25\nNo one turned away for lack of funds.\nPlease register early if you can. \nREGISTER \nThe event will be recorded and emailed to participants within a week.\nTo check your local time\, use a tool such as: Time Zone Converter
URL:https://opencirclecenter.org/event/bruce-pardoe-jan-31-2020/
LOCATION:Online Video Meeting (phone access also available)
CATEGORIES:Online Event
ATTACH;FMTTYPE=image/png:https://opencirclecenter.org/wp-content/uploads/2021/01/Bruce-Pardoe_2021-01.png
ORGANIZER;CN="Open%20Circle%20Center%20-%20Online%20Events":MAILTO:web@opencirclecenter.org
END:VEVENT
END:VCALENDAR