BEGIN:VCALENDAR
VERSION:2.0
PRODID:-//Open Circle Center - ECPv5.7.0//NONSGML v1.0//EN
CALSCALE:GREGORIAN
METHOD:PUBLISH
X-WR-CALNAME:Open Circle Center
X-ORIGINAL-URL:https://opencirclecenter.org
X-WR-CALDESC:Events for Open Circle Center
BEGIN:VTIMEZONE
TZID:America/Los_Angeles
BEGIN:DAYLIGHT
TZOFFSETFROM:-0800
TZOFFSETTO:-0700
TZNAME:PDT
DTSTART:20210314T100000
END:DAYLIGHT
BEGIN:STANDARD
TZOFFSETFROM:-0700
TZOFFSETTO:-0800
TZNAME:PST
DTSTART:20211107T090000
END:STANDARD
END:VTIMEZONE
BEGIN:VEVENT
DTSTART;TZID=America/Los_Angeles:20210207T090000
DTEND;TZID=America/Los_Angeles:20210207T160000
DTSTAMP:20260423T041902
CREATED:20210123T220146Z
LAST-MODIFIED:20210130T213934Z
UID:15299-1612688400-1612713600@opencirclecenter.org
SUMMARY:Bruce Pardoe ~ Heart Fluency® - Establish A Non-Dual Contemplative Practice: Daylong Retreat
DESCRIPTION:Embody and live your freedom. Learn to use Heart Fluency’s highly accessible non-dual method as the basis of a meditation practice to experience and consolidate your ordinary awakened nature as your default orientation to life. This seven-hour retreat includes sitting and walking meditation\, as well as straightforward teachings that will enable you to feel through your direct embodied and mental experience to the liberated\, healing nature of pure awareness. Discover how a contemplative practice can cultivate a lasting\, free relationship to reality that opens you to “flow”\, and what is called “suchness” in Zen practice. As we deepen through the day we feel how awareness can heal our deepest wounds. This is a transformative\, yet simple and affirming day of wondrous presence. \nThere will be 1 hour lunch break around noon. \nFor more than 40 years Bruce Pardoe has been navigating and facilitating the path of inner healing and non-dual wisdom. Bruce’s journey healing his own complex trauma led him to develop the radically gentle Heart Fluency® method for engaging emotional wounds and afflictive patterns as portals to directly embodying non-dual well-being and happiness. Heart Fluency combines neuroscience and the unconditional nourishment of pure awareness in a highly accessible\, heart-centered approach. \nAfter spending over two years on silent retreat\, Bruce became a meditation teacher in the Vipassana tradition of Buddhism. He has completed Spirit Rock Meditation Center’s two-year Dharma Leader training\, and has studied extensively in Asia in the traditions of Tibetan Buddhism and Advaita. Bruce has also trained in Polyvagal Theory\, Feldenkrais Awareness through Movement and Hakomi’s body-centered psychotherapy. Since 2007 Bruce has shared Heart Fluency trainings and workshops with conscious individuals\, therapists and healers on four continents. \n“Bruce Pardoe has developed a very effective therapeutic and awakening process called Heart Fluency based in Buddhist and non-dual wisdom as well as body-mind healing modalities. I have experienced his work\, and I highly recommend him!”\n~ Lynn Marie Lumiere\, MFT \nwww.heartfluency.com \nSliding Scale: $50 to $90\nSome Partial Scholarships Available\nPlease Register Early if you can. \nREGISTER \nThe event will be recorded and emailed to participants within a week.\nTo check your local time\, use a tool such as: Time Zone Converter
URL:https://opencirclecenter.org/event/bruce-pardoe-daylong-feb-7-2021/
LOCATION:Online Video Meeting (phone access also available)
CATEGORIES:Online Event
ATTACH;FMTTYPE=image/png:https://opencirclecenter.org/wp-content/uploads/2021/01/Bruce-Pardoe_2021-01.png
ORGANIZER;CN="Open%20Circle%20Online%20Retreats":MAILTO:web@opencirclecenter.org
END:VEVENT
END:VCALENDAR