BEGIN:VCALENDAR
VERSION:2.0
PRODID:-//Open Circle Center - ECPv5.7.0//NONSGML v1.0//EN
CALSCALE:GREGORIAN
METHOD:PUBLISH
X-WR-CALNAME:Open Circle Center
X-ORIGINAL-URL:https://opencirclecenter.org
X-WR-CALDESC:Events for Open Circle Center
BEGIN:VTIMEZONE
TZID:America/Los_Angeles
BEGIN:DAYLIGHT
TZOFFSETFROM:-0800
TZOFFSETTO:-0700
TZNAME:PDT
DTSTART:20190310T100000
END:DAYLIGHT
BEGIN:STANDARD
TZOFFSETFROM:-0700
TZOFFSETTO:-0800
TZNAME:PST
DTSTART:20191103T090000
END:STANDARD
END:VTIMEZONE
BEGIN:VEVENT
DTSTART;TZID=America/Los_Angeles:20190818T190000
DTEND;TZID=America/Los_Angeles:20190818T204500
DTSTAMP:20260421T134525
CREATED:20190726T172354Z
LAST-MODIFIED:20190726T173012Z
UID:9290-1566154800-1566161100@opencirclecenter.org
SUMMARY:Brian and Alexandra Theard ~ The Summer of Healed Relationships
DESCRIPTION:To have a quiet mind\, an open heart\, and not take anything personally is the basis of a healed and holy relationship. But what happens when we hit a wall\, and a painful disturbance seems to be insurmountable? The limits of our human heart can seem to be stretched beyond what we believe ourselves to be capable of feeling. And yet we are each carried beyond our personal limits as we bring our dark thoughts and negative feelings to Light\, placing everything on the altar of Truth. No difficulty can withstand the quiet light of loving awareness. \nWithin the core of every difficult situation and emotion\, is an intrinsic miracle moment. In choosing the growth opportunity within that situation\, instead of defending a point of view\, we are miraculously assisted by all the love of the universe. If we choose to accept it\, moments of disharmony offer us a priceless gift\, which carry us far beyond our perceived disturbances\, to inner peace. Our persistent willingness catapults our relationships into a brighter and lighter timeline\, removing doubts and insecurities\, replacing them with the certainty of a loving purpose more valuable than anything in the world.  \nIn our upcoming events at Open Circle\, we’ll explore the qualities of honesty and higher willingness\, in a practical and easy way.  We’ll open up to the loving dimensions of consciousness that foster true safety\, vulnerability\, and a quiet tenderness of heart. You needn’t be in crisis to reap the essential benefits offered here. Come as you are. \nBrian and Alexandra intuitively draw from direct experience\, and 27yrs of partnership in the context of awakening.  They share teachings from A Course in Miracles and Sri Ramana Maharshi in their exploration of loving relationships. What they’ve discovered\, is any relationship given to truth\, is a path of awakening to what lies beyond all concepts and definitions. And all relationships offer the chance to walk our talk with great integrity. \nwww.fieldofchange.com \nSuggested donation: $10 to $20
URL:https://opencirclecenter.org/event/brian-alexandra-aug-18-2019/
LOCATION:Chochmat HaLev\, 2215 Prince St.\, Berkeley\, CA\, United States
CATEGORIES:East Bay
ATTACH;FMTTYPE=image/jpeg:https://opencirclecenter.org/wp-content/uploads/2019/07/Brian-Alexandra_2019-07.jpg
GEO:37.8536815;-122.2634046
X-APPLE-STRUCTURED-LOCATION;VALUE=URI;X-ADDRESS=Chochmat HaLev 2215 Prince St. Berkeley CA United States;X-APPLE-RADIUS=500;X-TITLE=2215 Prince St.:geo:-122.2634046,37.8536815
END:VEVENT
END:VCALENDAR