BEGIN:VCALENDAR
VERSION:2.0
PRODID:-//Open Circle Center - ECPv5.7.0//NONSGML v1.0//EN
CALSCALE:GREGORIAN
METHOD:PUBLISH
X-WR-CALNAME:Open Circle Center
X-ORIGINAL-URL:https://opencirclecenter.org
X-WR-CALDESC:Events for Open Circle Center
BEGIN:VTIMEZONE
TZID:America/Los_Angeles
BEGIN:DAYLIGHT
TZOFFSETFROM:-0800
TZOFFSETTO:-0700
TZNAME:PDT
DTSTART:20260308T100000
END:DAYLIGHT
BEGIN:STANDARD
TZOFFSETFROM:-0700
TZOFFSETTO:-0800
TZNAME:PST
DTSTART:20261101T090000
END:STANDARD
END:VTIMEZONE
BEGIN:VEVENT
DTSTART;TZID=America/Los_Angeles:20260510T100000
DTEND;TZID=America/Los_Angeles:20260510T120000
DTSTAMP:20260419T115259
CREATED:20260418T065123Z
LAST-MODIFIED:20260418T174522Z
UID:35768-1778407200-1778414400@opencirclecenter.org
SUMMARY:Beth Miller ~ When The Heart Blooms The World Brightens
DESCRIPTION:You are warmly invited to an on-line satsang with Beth Miller\, where we will explore our hearts as we live through dark times. \nWe have come to this planet to play a character in the unfolding of absolute reality. In our deliciously unique personalities . . . and bodies . . . we are designed to grow\, to move\, to shift\, to love . . .we are designed to expand and be fully aligned with our essence\, the very same energetic material of absolute reality. \nWe live on a planet of duality – where everything expands and contracts\, nothing stays the same. Right now\, we are living through a massive\, destructive falling apart. We are in the midst of a large contracting collapse. \nThis collapse is not new; collectively we have collapsed before. But we are having to face THIS darkness and THIS collapse as it unfolds; how can we face this moment with fresh eyes and expanded consciousness? Perhaps we can use this moment to individually and collectively grow\, mature\, love more and maybe even wake up to our deepest reality – our natural beingness that is not divided\, not reactive\, not closed off from our own shadows and the shadow of the world. \nWe have come to this planet to heal and to love; to heal all that has been ostracized and held with shame; to love every cell and trait we have inherited and as situations and circumstances energetically put pressure on us\, clear our inner tangles so we may truly love all that is; love us back into our innate being. \nWhat if our response to destruction and heart-less-ness was genuine kindness\, compassion and heart-felt love? \nBIO\nBeth Miller is a spiritual teacher\, psychotherapist\, and author devoted to deepening in our true nature and living in loving relationship with all of life. Her work weaves psychological depth with direct spiritual inquiry into presence\, love and wholeness. After raising 2 sons and completing her doctoral study in psychology\, Beth taught at California Institute of Integral Studies and UCSF\, maintained a private practice and led workshops in resilience. Her first book\, The Woman’s Book of Resilience: 12 Qualities to Cultivate\, was published in 2005\, and came from her doctoral dissertation. Through teaching\, writing and private sessions\, Beth shares from lived experience. \nBeth studied and followed Adyashanti\, David Hawkins\, Mooji and Jan Frazier. In 2013\, she spent a week one on one with Jan Frazier in Vermont. Jan is heart based\, and “ignited the same heart flame” in Beth. Later\, in a three day retreat with Jan in Mill Valley\, “three things happened simultaneously. I felt an intense burning sensation in my gut\, radiating throughout my entire body and all barriers between me and the people in the room\, the room itself\, the great outdoors fell away and the reality of being everyone and everything was as clear as clear could be. The oneness of it all felt incredibly ordinary – in the sense of having known this all along and just now remembering – it felt so completely natural\, so matter of fact. The third\, and by far\, the most difficult to express is the immensity of love that washed through me\, arose in and all around me…. love that was beyond anything I could express and bigger than anything I could imagine. It was over-powering in an indelible and stunningly glorious way. In retrospect\, I can see how the last 12 years has been a deepening into the expression of love.” \nIn her most recent book\, Awakening is Not for the Faint of Heart\, she shares her own journey through Long Covid and inner transformation\, inviting readers into an honest\, courageous\, and compassionate engagement with life exactly as it is. \nBeth’s website: www.bethmillerphd.com \nRick Archer – Batgap 3/22 interview with Beth: https://batgap.com/beth-miller/ \nAwareness Explorer Interview with Beth: https://www.awarenessexplorers.com/podcast/episode/1ad4fd5d/198-beth-miller-guest-explorer \nSliding Scale: $15 to $40\nNo one turned away for lack of funds.\nIf you can’t pay within the sliding scale\, just contact us to let us know what you can contribute.\nAddress inquiries to web@opencirclecenter.org \nREGISTER \nThe event will be recorded and emailed to participants within a week.\nTo check your local time\, use a tool such as: World Time Buddy
URL:https://opencirclecenter.org/event/beth-miller-may-10-2026/
LOCATION:Online Video Meeting (phone access also available)
CATEGORIES:Online Event
ATTACH;FMTTYPE=image/jpeg:https://opencirclecenter.org/wp-content/uploads/2026/04/Beth-Miller_2026_close.jpg
ORGANIZER;CN="Open%20Circle%20Center%20-%20Online%20Events":MAILTO:web@opencirclecenter.org
END:VEVENT
END:VCALENDAR