BEGIN:VCALENDAR
VERSION:2.0
PRODID:-//Open Circle Center - ECPv5.7.0//NONSGML v1.0//EN
CALSCALE:GREGORIAN
METHOD:PUBLISH
X-WR-CALNAME:Open Circle Center
X-ORIGINAL-URL:https://opencirclecenter.org
X-WR-CALDESC:Events for Open Circle Center
BEGIN:VTIMEZONE
TZID:America/Los_Angeles
BEGIN:DAYLIGHT
TZOFFSETFROM:-0800
TZOFFSETTO:-0700
TZNAME:PDT
DTSTART:20190310T100000
END:DAYLIGHT
BEGIN:STANDARD
TZOFFSETFROM:-0700
TZOFFSETTO:-0800
TZNAME:PST
DTSTART:20191103T090000
END:STANDARD
END:VTIMEZONE
BEGIN:VEVENT
DTSTART;TZID=America/Los_Angeles:20190906T190000
DTEND;TZID=America/Los_Angeles:20190907T190000
DTSTAMP:20260421T101917
CREATED:20190809T231503Z
LAST-MODIFIED:20190910T163823Z
UID:9328-1567796400-1567882800@opencirclecenter.org
SUMMARY:Atma Nambi ~ Live Life
DESCRIPTION:Please join us for these special events with South Indian spiritual teacher\, Atma Nambi.\n \nAtma Nambi is a spiritual teacher from Tamil Nadu\, south India. His spiritual journey started at age 10\, and later\, while following a career in the business world\, he underwent years of spiritual practice with several prominent teachers\, including the famous Yogi Ramsurat Kumar and Mohan Bharathi. His various practices included bhakti\, karma yoga\, mantra\, and kundalini\, culminating in his Self-Realization in 1994. \nSince then\, he has been sharing what he lives – total Presence 24 hours a day –  with an approach that is casual\, immediately applicable\, and down-to-earth. He inspires people to live a conscious life in line with each one’s individual potential\, which brings pure joy and contentment\, health and prosperity in all relations\, as well as materially. Atma Nambi shares easy\, practical and powerful techniques and approaches that can be applied in everyday life for people of all ages in all levels of society. These will enable you to live a life of celebration\, while cultivating the recognition of the true Self. \nBoth the Friday evening and Saturday programs will culminate with optional chakra initiations by Atma Nambi. The initiations are individual but are done in a group context. The whole group enhances the energy in the initiated. During this process\, practical tips will be given on how to keep the chakras activated and maintained\, as well as keeping in good physical health. \nNote that there is an additional sliding-scale charge for these initiations. \nFriday\, September 6th\nAn Evening of Wellbeing: 7 – 9:00 pm\nExperience the Truth\, discuss life-related situations\, and enjoy being in inner silence. This is an instant experience of wellbeing and peace. \nSuggested donation: $15-25 \nNo one turned away for lack of funds. \nAnahata Heart Chakra Initiation: 9 – 9:30 pm\nThe activation of the heart energy center\, the fourth chakra\, is a way to open up the heart and to heal heart-related issues; it enables better relationships\, abundance of love and compassion\, inner peace\, and empowers the immune system. \nSliding Scale: $35-50\nPlease bring a candle to hold. \nSaturday: September 7th \nLive Life Workshop: 10 – 5:00 pm (Lunch 1 – 2:30 pm)\nThe Live Life Workshop addresses how to create an atmosphere of ever-rising consciousness\, energy and creativity. Atma Nambi will give techniques for raising the internal and external awareness and atmosphere. There will be moment-to-moment techniques\, easy to implement in everyday life\, as well as powerful techniques for clearing negative energy (karma)\, and for inner transformation. \nWhen there is an energy coordination brought in to the spot we are in flow. This is a state of consciousness that takes away the blocks from different parts of the body\, enhances creativity and the ability to perceive the situation as it is. Flow makes every action joyous and healthy for oneself and others. An atmosphere of flow increases the amount and the quality your work\, while addressing the internal atmosphere within one’s Self enhances relationships with family\, friends and co-workers\, as well as the atmosphere at home\, school or at work. \nSliding Scale: $60-120 \nKundalini Initiation\, 5 – 6 pm\nThis initiation activates and awakens the mega-energy of kundalini\, which dwells at the base of the spine. The rising of kundalini energy acts powerfully\, dissolving fear\, anxiety and depression. It generates more and more energy through the chakras\, and since it is a life-force energy\, its awakening enables both mental and physical wellbeing. It can dissolve many karmas and impressions from the past\, and a new way of living in joy\, peace and harmony can be established. Since this is a powerful initiation\, Atma Nambi will select the individuals who he feels are ready. \nSliding Scale: $35-50\nPlease bring a fragrant flower. \n****************************************************************************************** \nAdditional Services: \n While Atma Nambi is in the Bay Area\, he is also offering other services to the general community. \nPersonal Sessions\nAtma Nambi provides personalized guidance\, spiritual healing\, personal techniques and mantras to remove blockages and open up for your inner qualities and powers; he provides individual guidance\, with the tools you need to move forward in life\, to heal and to open up to the potential in all areas of life\, both spiritual and material. He also guides couples and families in how to live a content and joyous family life\, and gives guidance to those running centers or doing service for the wellbeing of humanity.\n$50 \nPersonal Atma Darshan Sessions: Being in Light\nDuring this private darshan session\, Atma Nambi bestows his grace in abundance. He opens up the door of the mind\, and the eight spiritual powers that one carries within\, enabling the purity of the Self to be experienced.\n$50 \nKubera TapasKubera Tapas is a fire ceremony performed for cleansing and spiritual and material abundance in private homes\, the workplace\, and in organizations. Throughout the ages\, countless people and places have received great benefit in every aspect of life through Kubera Tapas. The ceremony lasts for approximately 1.5 hours.\n$250 \nTo book any of the above services\, please email Aradhana at: LIVELIFE.Atma@gmail.com. \n\nhttp://atmanambi.org/ \nwww.facebook.com/AtmaNambi.LiveLife/ \nhttp://upanisha.org/ \nThere are also several videos of Atma Nambi on YouTube. \n 
URL:https://opencirclecenter.org/event/atma-nambi-sept-2019/
LOCATION:Chochmat HaLev\, 2215 Prince St.\, Berkeley\, CA\, United States
CATEGORIES:East Bay
ATTACH;FMTTYPE=image/jpeg:https://opencirclecenter.org/wp-content/uploads/2019/08/Atma-Nambi...cropped...jpg
GEO:37.8536815;-122.2634046
X-APPLE-STRUCTURED-LOCATION;VALUE=URI;X-ADDRESS=Chochmat HaLev 2215 Prince St. Berkeley CA United States;X-APPLE-RADIUS=500;X-TITLE=2215 Prince St.:geo:-122.2634046,37.8536815
END:VEVENT
END:VCALENDAR