BEGIN:VCALENDAR
VERSION:2.0
PRODID:-//Open Circle Center - ECPv5.7.0//NONSGML v1.0//EN
CALSCALE:GREGORIAN
METHOD:PUBLISH
X-WR-CALNAME:Open Circle Center
X-ORIGINAL-URL:https://opencirclecenter.org
X-WR-CALDESC:Events for Open Circle Center
BEGIN:VTIMEZONE
TZID:America/Los_Angeles
BEGIN:DAYLIGHT
TZOFFSETFROM:-0800
TZOFFSETTO:-0700
TZNAME:PDT
DTSTART:20230312T100000
END:DAYLIGHT
BEGIN:STANDARD
TZOFFSETFROM:-0700
TZOFFSETTO:-0800
TZNAME:PST
DTSTART:20231105T090000
END:STANDARD
END:VTIMEZONE
BEGIN:VEVENT
DTSTART;TZID=America/Los_Angeles:20230129T190000
DTEND;TZID=America/Los_Angeles:20230129T204500
DTSTAMP:20260423T130254
CREATED:20230113T064736Z
LAST-MODIFIED:20230113T064921Z
UID:21831-1675018800-1675025100@opencirclecenter.org
SUMMARY:Adam Chacksfield ~ Living In Your Desire ~ In-Person in Berkeley\, CA
DESCRIPTION:How do you act and make choices when you realize there’s nothing you need to be or become? How do you claim the gift of your unique embodied life when you see that all stories of life purpose are fictions? \nWhen we are spacious enough we can zoom out and realize the absolute freedom of nonduality\, and the open space of vast possibility in which our particular lives are unfolding. \nFrom here\, we can also zoom in and explore the inspiration of our deepest desires. Let’s tune in to what lights us up and what shuts us down. Let’s embrace the sensual juiciness of our journey\, and honor the movement our hearts and the truth of our experience. Inspiration effortlessly brings us all the way here\, move us\, and creates our lives. \nYou don’t need to believe the fear and shame conditioning that has you ignore your desire and instead do what you’ve been taught is “normal” or what “you should do.” You get to live inside your desire\, enjoy it’s erotic vitality\, and unfold freely without believing in any destination. \nAdam’s teaching is an expression of nondual wisdom that also passionately embraces the whole of our embodied aliveness. Adam’s reliable open-hearted presence makes him adept at supporting people in moving through the fear and shame conditioning that so often shuts us down. \nAdam facilitates retreats and workshops in North America and Europe. He coaches individuals and couples. Adam also created and teaches a four-month online course called “Erotic Embodiment & Intimacy.” \nwww.adamchacksfield.com \nSuggested donation: $15 to $25
URL:https://opencirclecenter.org/event/adam-chacksfield-jan-29-2023/
LOCATION:Chochmat HaLev\, 2215 Prince St.\, Berkeley\, CA\, United States
CATEGORIES:East Bay
ATTACH;FMTTYPE=image/jpeg:https://opencirclecenter.org/wp-content/uploads/2020/05/Adam-C_2020.jpeg
GEO:37.8536815;-122.2634046
X-APPLE-STRUCTURED-LOCATION;VALUE=URI;X-ADDRESS=Chochmat HaLev 2215 Prince St. Berkeley CA United States;X-APPLE-RADIUS=500;X-TITLE=2215 Prince St.:geo:-122.2634046,37.8536815
END:VEVENT
END:VCALENDAR